BEGIN:VCALENDAR
VERSION:2.0
PRODID:-//ChamberMaster//Event Calendar 2.0//EN
METHOD:PUBLISH
X-PUBLISHED-TTL:P3D
REFRESH-INTERVAL:P3D
CALSCALE:GREGORIAN
BEGIN:VEVENT
DTSTART:20220223T150000Z
DTEND:20220223T160000Z
X-MICROSOFT-CDO-ALLDAYEVENT:FALSE
SUMMARY:WEDC: Restaurant & Tourism Return-to-Work Programs
DESCRIPTION:Join us to learn how to apply for tax credits ranging from $5\,000 to $50\,000 for restaurants or grant money for tourism businesses!  Attendees will leave understanding the two programs\, if they can apply and their next steps.\n\nTopics:\n\n\n	\n	Do you qualify\n	\n	\n	Calculating your tax credit for the Restaurant Return-to-Work Tax Credit Program\n	\n	\n	Calculating your grant amount for the Tourism Return-to-Work Grant Program\n	\n	\n	Documentation needed\n	\n	\n	How to apply for each program
X-ALT-DESC;FMTTYPE=text/html:<p>&nbsp\;</p>\n\n<p><span style="font-size:16px">Join us to learn how to apply for tax credits ranging from $5\,000 to $50\,000 for restaurants or grant money for tourism businesses!&nbsp\; Attendees will leave understanding the two programs\, if they can apply and their next steps.</span></p>\n\n<p><span style="font-size:16px"><strong>Topics:</strong></span></p>\n\n<ul>\n	<li>\n	<p><span style="font-size:16px">Do you qualify</span></p>\n	</li>\n	<li>\n	<p><span style="font-size:16px">Calculating your tax credit for the Restaurant Return-to-Work Tax Credit Program</span></p>\n	</li>\n	<li>\n	<p><span style="font-size:16px">Calculating your grant amount for the Tourism Return-to-Work Grant Program</span></p>\n	</li>\n	<li>\n	<p><span style="font-size:16px">Documentation needed</span></p>\n	</li>\n	<li>\n	<p><span style="font-size:16px">How to apply for each program</span></p>\n	</li>\n</ul>\n
LOCATION:Online
UID:e.2300.9723
SEQUENCE:3
DTSTAMP:20260421T002236Z
URL:https://business.ulsterchamber.org/events/details/wedc-restaurant-tourism-return-to-work-programs-9723
END:VEVENT

END:VCALENDAR
