BEGIN:VCALENDAR
VERSION:2.0
PRODID:-//ChamberMaster//Event Calendar 2.0//EN
METHOD:PUBLISH
X-PUBLISHED-TTL:P3D
REFRESH-INTERVAL:P3D
CALSCALE:GREGORIAN
BEGIN:VEVENT
DTSTART:20210719T150000Z
DTEND:20210719T220000Z
X-MICROSOFT-CDO-ALLDAYEVENT:FALSE
SUMMARY:Walkway Friends Golf Tournament
DESCRIPTION:The Friends of the Walkway are hosting our inaugural golf tournament at Apple Greens Golf Course on Monday\, July 19 and you're invited to join us. The event includes 18 holes of golf with stunning views of the Shawangunk Mountains\, classic competitions like longest drive and closest-to-the-pin\, a continental breakfast\, delicious locally-sourced dinner\, drinks\, and awards. A custom vodka cocktail provided by 1857 Spirits will add a special touch to the event.\n\nAll proceeds benefit the Friends of the Walkway nonprofit organization. Supported by a diverse coalition of members\, donors\, and corporate sponsors\, the Friends of the Walkway raise funds to enhance the Walkway experience\, support capital improvements\, and deliver innovative events that engage Hudson Valley residents and visitors\, all contributing to the vitality of the region.\n\nFor complete information and to book your tee time\, visit walkway.org/golf.
X-ALT-DESC;FMTTYPE=text/html:<div class="tribe-events-single-event-description tribe-events-content">\n<div class="app-element-row" data-v-7be2974f="" data-v-c9004154="">\n<div class="app-element-column col col-sm-12" data-v-65afca71="" data-v-7be2974f="">\n<div class="element-html-block" data-v-65afca71="" data-v-8e521990="">\n<p>The Friends of the Walkway are hosting our <a href="https://app.mobilecause.com/e/xe_0Gg?vid=i4gfs">inaugural golf tournament</a> at Apple Greens Golf Course on Monday\, July 19 and you&rsquo\;re invited to join us. The event includes 18 holes of golf with stunning views of the Shawangunk Mountains\, classic competitions like longest drive and closest-to-the-pin\, a continental breakfast\, delicious locally-sourced dinner\, drinks\, and awards. A custom vodka cocktail provided by 1857 Spirits will add a special touch to the event.</p>\n\n<p><strong>All proceeds benefit the Friends of the Walkway nonprofit organization.</strong> Supported by a diverse coalition of members\, donors\, and corporate sponsors\, the Friends of the Walkway raise funds to enhance the Walkway experience\, support capital improvements\, and deliver innovative events that engage Hudson Valley residents and visitors\, all contributing to the vitality of the region.</p>\n\n<p>For complete information and to book your tee time\, visit <a href="https://app.mobilecause.com/e/xe_0Gg?vid=i4gfs" rel="noopener" target="_blank">walkway.org/golf</a>.</p>\n</div>\n</div>\n</div>\n</div>\n
LOCATION:Apple Greens Golf Course
UID:e.2300.9549
SEQUENCE:3
DTSTAMP:20260421T112805Z
URL:https://business.ulsterchamber.org/events/details/walkway-friends-golf-tournament-9549
END:VEVENT

END:VCALENDAR
