BEGIN:VCALENDAR
VERSION:2.0
PRODID:-//ChamberMaster//Event Calendar 2.0//EN
METHOD:PUBLISH
X-PUBLISHED-TTL:P3D
REFRESH-INTERVAL:P3D
CALSCALE:GREGORIAN
BEGIN:VEVENT
DTSTART:20210713T150000Z
DTEND:20210713T153000Z
X-MICROSOFT-CDO-ALLDAYEVENT:FALSE
SUMMARY:Virtual Visit with N.Y. Therapy Animals
DESCRIPTION:This program will allow persons with dementia and their caregivers the opportunity to view and interact with New York Therapy Animals virtually. Viewing and participating with animals can be a way to relax\, participate in community and build a new one! Please join us for the first ever Hudson Valley Alzheimer's Association session of New York Therapy Animals.
X-ALT-DESC;FMTTYPE=text/html:This program will allow persons with dementia and their caregivers the opportunity to view and interact with New York Therapy Animals virtually. Viewing and participating with animals can be a way to relax\, participate in community and build a new one! Please join us for the first ever Hudson Valley Alzheimer&#39\;s Association session of New York Therapy Animals.
LOCATION:Remote
UID:e.2300.9537
SEQUENCE:3
DTSTAMP:20260421T112601Z
URL:https://business.ulsterchamber.org/events/details/virtual-visit-with-n-y-therapy-animals-9537
END:VEVENT

END:VCALENDAR
