BEGIN:VCALENDAR
VERSION:2.0
PRODID:-//ChamberMaster//Event Calendar 2.0//EN
METHOD:PUBLISH
X-PUBLISHED-TTL:P3D
REFRESH-INTERVAL:P3D
CALSCALE:GREGORIAN
BEGIN:VEVENT
DTSTART:20210828T153000Z
DTEND:20210828T163000Z
X-MICROSOFT-CDO-ALLDAYEVENT:FALSE
SUMMARY:Villa Veritas: Walk for Recovery
DESCRIPTION:Join Us for the first time since Covid-19 socially distanced\n\n\n\nWALK FOR RECOVERY\n\n\n\nSaturday\, August 28\, 2021\n\n11:30 am until we cross the bridge\n\n\n\nT-shirts for sale ~ Donations accepted
X-ALT-DESC;FMTTYPE=text/html:Join Us for the first time since Covid-19 socially distanced<br />\n<br />\nWALK FOR RECOVERY<br />\n<br />\nSaturday\, August 28\, 2021<br />\n11:30 am until we cross the bridge<br />\n<br />\nT-shirts for sale ~ Donations accepted
LOCATION:Walkway Over the Hudson
UID:e.2300.9626
SEQUENCE:3
DTSTAMP:20260421T094926Z
URL:https://business.ulsterchamber.org/events/details/villa-veritas-walk-for-recovery-9626
END:VEVENT

END:VCALENDAR
