BEGIN:VCALENDAR
VERSION:2.0
PRODID:-//ChamberMaster//Event Calendar 2.0//EN
METHOD:PUBLISH
X-PUBLISHED-TTL:P3D
REFRESH-INTERVAL:P3D
CALSCALE:GREGORIAN
BEGIN:VEVENT
DTSTART:20210701T140000Z
DTEND:20210701T210000Z
X-MICROSOFT-CDO-ALLDAYEVENT:FALSE
SUMMARY:Ulster Savings Bank Phoenicia Branch to Feature Poet and Artist ‘Sparrow’
DESCRIPTION:Ulster Savings Bank would like to invite the public to their 58 Main Street\, Phoenicia branch to enjoy their latest art exhibit by poet and artist Sparrow (Michael Gorelick). His exhibit of drawings\, collages\, and doodles will be on display at the branch for the month of July.\n\n\n\nSparrow was born in Manhattan in 1953. In 1973\, he flunked out of Cornell University and began a series of low-paying jobs\, most of them part-time. (His annual salary has never exceeded $10\,782.) For 18 years\, he worked with developmentally disabled adults and autistic children at the 92nd St. Y. Along with his wife Violet Snow and daughter Sylvia\, Sparrow moved to Phoenicia in 1999. Sparrow has been there ever since\, except for two mystifying years in Teaneck\, New Jersey. Sparrow has been published in the New York Times\, the New Yorker\, the American Poetry Review\, Monster Trucks\, Lungfull!\, Reptiles of the Mind\, and the Sun. He has published 10 books of poetry\, essays\, and fiction. (One of his most recent is Small Happiness & Other Epiphanies (Monkfish)).\n\n\n\nFor more information concerning the exhibit\, please contact Samantha Awand-Gortel\, Phoenicia Branch Manager\, at 845-688-5965\, ext. 6701.\n\n\n\nThe lobby hours are Monday through Thursday\, 8:30-5\, Friday 8:30-6\, and Saturday 9-2.
X-ALT-DESC;FMTTYPE=text/html:Ulster Savings Bank would like to invite the public to their 58 Main Street\, Phoenicia branch to enjoy their latest art exhibit by poet and artist Sparrow (Michael Gorelick). His exhibit of drawings\, collages\, and doodles will be on display at the branch for the month of July.<br />\n<br />\nSparrow was born in Manhattan in 1953. In 1973\, he flunked out of Cornell University and began a series of low-paying jobs\, most of them part-time. (His annual salary has never exceeded $10\,782.) For 18 years\, he worked with developmentally disabled adults and autistic children at the 92nd St. Y. Along with his wife Violet Snow and daughter Sylvia\, Sparrow moved to Phoenicia in 1999. Sparrow has been there ever since\, except for two mystifying years in Teaneck\, New Jersey. Sparrow has been published in the New York Times\, the New Yorker\, the American Poetry Review\, Monster Trucks\, Lungfull!\, Reptiles of the Mind\, and the Sun. He has published 10 books of poetry\, essays\, and fiction. (One of his most recent is Small Happiness &amp\; Other Epiphanies (Monkfish)).<br />\n<br />\nFor more information concerning the exhibit\, please contact Samantha Awand-Gortel\, Phoenicia Branch Manager\, at 845-688-5965\, ext. 6701.<br />\n<br />\nThe lobby hours are Monday through Thursday\, 8:30-5\, Friday 8:30-6\, and Saturday 9-2.
LOCATION:Ulster Savings Bank
UID:e.2300.9586
SEQUENCE:3
DTSTAMP:20260421T113330Z
URL:https://business.ulsterchamber.org/events/details/ulster-savings-bank-phoenicia-branch-to-feature-poet-and-artist-sparrow-9586
END:VEVENT

END:VCALENDAR
