BEGIN:VCALENDAR
VERSION:2.0
PRODID:-//ChamberMaster//Event Calendar 2.0//EN
METHOD:PUBLISH
X-PUBLISHED-TTL:P3D
REFRESH-INTERVAL:P3D
CALSCALE:GREGORIAN
BEGIN:VEVENT
DTSTART:20210826T220000Z
DTEND:20210827T020000Z
X-MICROSOFT-CDO-ALLDAYEVENT:FALSE
SUMMARY:Ulster County Italian American Foundation 2021 Outdoor Movies
DESCRIPTION:Presented by UCIAF Cultrual Committee\n\n\n\n"Under The Tuscan Sun"  An impulsive purchase of a Tuscan villa introduces us to the struggles\, adventures and romance of relocating Italian style. In English.\n\n\n\nEvent to be held at Reginato Ristorante in Lake Katrine. Free Italian Popcorn.
X-ALT-DESC;FMTTYPE=text/html:Presented by UCIAF Cultrual Committee<br />\n<br />\n&ldquo\;Under The Tuscan Sun&rdquo\;&nbsp\; An impulsive purchase of a Tuscan villa introduces us to the struggles\, adventures and romance of relocating Italian style. In English.<br />\n<br />\nEvent to be held at Reginato Ristorante in Lake Katrine. Free Italian Popcorn.<br />\n<br />\n<br />\n&nbsp\;
LOCATION:Reginato Ristorante
UID:e.2300.9522
SEQUENCE:3
DTSTAMP:20260421T095144Z
URL:https://business.ulsterchamber.org/events/details/ulster-county-italian-american-foundation-2021-outdoor-movies-9522
END:VEVENT

END:VCALENDAR
