BEGIN:VCALENDAR
VERSION:2.0
PRODID:-//ChamberMaster//Event Calendar 2.0//EN
METHOD:PUBLISH
X-PUBLISHED-TTL:P3D
REFRESH-INTERVAL:P3D
CALSCALE:GREGORIAN
BEGIN:VEVENT
DTSTART:20210715T220000Z
DTEND:20210716T020000Z
X-MICROSOFT-CDO-ALLDAYEVENT:FALSE
SUMMARY:Ulster County Italian American Foundation 2021 Outdoor Movies
DESCRIPTION:Presented by UCIAF Cultrual Committee\n\n\n\n"Mr. President" Very funny movie about the election of an unlikely President. In Italian w/English Subtitles.\n\n\n\nEvent to be held at Reginato Ristorante in Lake Katrine. Free Italian Popcorn.
X-ALT-DESC;FMTTYPE=text/html:Presented by UCIAF Cultrual Committee<br />\n<br />\n&ldquo\;Mr. President&rdquo\; Very funny movie about the election of an unlikely President. In Italian w/English Subtitles.<br />\n<br />\nEvent to be held at Reginato Ristorante in Lake Katrine. Free Italian Popcorn.<br />\n<br />\n<br />\n&nbsp\;
LOCATION:Reginato Ristorante
UID:e.2300.9521
SEQUENCE:3
DTSTAMP:20260421T113329Z
URL:https://business.ulsterchamber.org/events/details/ulster-county-italian-american-foundation-2021-outdoor-movies-9521
END:VEVENT

END:VCALENDAR
