BEGIN:VCALENDAR
VERSION:2.0
PRODID:-//ChamberMaster//Event Calendar 2.0//EN
METHOD:PUBLISH
X-PUBLISHED-TTL:P3D
REFRESH-INTERVAL:P3D
CALSCALE:GREGORIAN
BEGIN:VEVENT
DTSTART:20210617T220000Z
DTEND:20210618T020000Z
X-MICROSOFT-CDO-ALLDAYEVENT:FALSE
SUMMARY:Ulster County Italian American Foundation 2021 Outdoor Movies
DESCRIPTION:Presented by UCIAF Cultrual Committee\n\n\n\nLa Dolce Vita" 1960 classic comedy-drama film directed and co-written by Federico Fellini. In Italian w/English Subtitles.\n\n\n\nEvent to be held at Reginato Ristorante in Lake Katrine. Free Italian Popcorn.
X-ALT-DESC;FMTTYPE=text/html:Presented by UCIAF Cultrual Committee<br />\n<br />\nLa Dolce Vita&rdquo\; 1960 classic comedy-drama film directed and co-written by Federico Fellini. In Italian w/English Subtitles.<br />\n<br />\nEvent to be held at Reginato Ristorante in Lake Katrine. Free Italian Popcorn.<br />\n<br />\n<br />\n&nbsp\;
LOCATION:Reginato Ristorante
UID:e.2300.9520
SEQUENCE:3
DTSTAMP:20260421T131015Z
URL:https://business.ulsterchamber.org/events/details/ulster-county-italian-american-foundation-2021-outdoor-movies-9520
END:VEVENT

END:VCALENDAR
