BEGIN:VCALENDAR
VERSION:2.0
PRODID:-//ChamberMaster//Event Calendar 2.0//EN
METHOD:PUBLISH
X-PUBLISHED-TTL:P3D
REFRESH-INTERVAL:P3D
CALSCALE:GREGORIAN
BEGIN:VEVENT
DTSTART:20210718T160000Z
DTEND:20210718T190000Z
X-MICROSOFT-CDO-ALLDAYEVENT:FALSE
SUMMARY:The Arc Mid-Hudson: 39th Annual Humanitarian Awards Brunch
DESCRIPTION:The Humanitarian Awards Brunch recognizes local individuals and businesses that have provided exceptional support to The Arc Mid-Hudson.\n\n\n\nAll-inclusive brunch with bottomless Bloody Mary and Mimosa Bar.\n\n\n\nHumanitarian of the Year\n\nBob Siracusano & Sawyer Motors\n\n\n\nJack Deyo Award for Advocacy\n\nSusan Lucas\n\n\n\nEmployee of the Year\n\nChris Dugan\n\n\n\nPersonal Achievement Award\n\nJess Puccio\n\n\n\nHeart of Gold\n\nNadine Ferraro\n\n\n\nEmployer of the Year\n\nWestwind Orchard
X-ALT-DESC;FMTTYPE=text/html:The Humanitarian Awards Brunch recognizes local individuals and businesses that have provided exceptional support to The Arc Mid-Hudson.<br />\n<br />\nAll-inclusive brunch with bottomless Bloody Mary and Mimosa Bar.<br />\n<br />\nHumanitarian of the Year<br />\nBob Siracusano &amp\; Sawyer Motors<br />\n<br />\nJack Deyo Award for Advocacy<br />\nSusan Lucas<br />\n<br />\nEmployee of the Year<br />\nChris Dugan<br />\n<br />\nPersonal Achievement Award<br />\nJess Puccio<br />\n<br />\nHeart of Gold<br />\nNadine Ferraro<br />\n<br />\nEmployer of the Year<br />\nWestwind Orchard
LOCATION:Ole Savannah Southern Table and Bar
UID:e.2300.9571
SEQUENCE:3
DTSTAMP:20260421T112904Z
URL:https://business.ulsterchamber.org/events/details/the-arc-mid-hudson-39th-annual-humanitarian-awards-brunch-9571
END:VEVENT

END:VCALENDAR
