BEGIN:VCALENDAR
VERSION:2.0
PRODID:-//ChamberMaster//Event Calendar 2.0//EN
METHOD:PUBLISH
X-PUBLISHED-TTL:P3D
REFRESH-INTERVAL:P3D
CALSCALE:GREGORIAN
BEGIN:VEVENT
DTSTART:20220317T113000Z
DTEND:20220317T130000Z
X-MICROSOFT-CDO-ALLDAYEVENT:FALSE
SUMMARY:St. Patrick's Day Breakfast Meeting
DESCRIPTION:It's time for the Chamber's 51st Annual Peter B. Mathews St. Patrick's Day Breakfast. Join us for this festive event\, featuring Live music with the T. McCann Band\, playing all your Irish favorites as well as the bagpipers and drums from the Ulster County Ancient Order of Hibernians!\n\n\n\nWe will also be naming the recipient of the Royal Order of the Blarney Stone - the 2022 Honorary Irish Person of the Year. You don't want to miss this fun and exciting Chamber Breakfast Meeting\, sponsored by The Reis Group!\n\n\n\nScroll down to see last year's 2021 Irish Person of the Year\, Eleni Loizou!
X-ALT-DESC;FMTTYPE=text/html:It&#39\;s time for the <strong>Chamber&#39\;s 51st Annual Peter B. Mathews St. Patrick&#39\;s Day Breakfast</strong>. Join us for this festive event\, featuring Live music with the T. McCann Band\, playing all your Irish favorites as well as the bagpipers and drums from the<span -webkit-text-stroke-width:="" background-color:="" display:="" float:="" font-size:="" font-style:="" font-variant-caps:="" font-variant-ligatures:="" font-weight:="" inline="" letter-spacing:="" orphans:="" style="color: rgb(51\, 51\, 51)\; font-family: sans-serif\, Arial\, Verdana\, " text-align:="" text-decoration-color:="" text-decoration-style:="" text-decoration-thickness:="" text-indent:="" text-transform:="" trebuchet="" white-space:="" widows:="" word-spacing:="">&nbsp\;</span><strong -webkit-text-stroke-width:="" font-size:="" font-style:="" font-variant-caps:="" font-variant-ligatures:="" letter-spacing:="" orphans:="" style="color: rgb(51\, 51\, 51)\; font-family: sans-serif\, Arial\, Verdana\, " text-align:="" text-decoration-color:="" text-decoration-style:="" text-decoration-thickness:="" text-indent:="" text-transform:="" trebuchet="" white-space:="" widows:="" word-spacing:="">Ulster County Ancient Order of Hibernians</strong><span -webkit-text-stroke-width:="" background-color:="" display:="" float:="" font-size:="" font-style:="" font-variant-caps:="" font-variant-ligatures:="" font-weight:="" inline="" letter-spacing:="" orphans:="" style="color: rgb(51\, 51\, 51)\; font-family: sans-serif\, Arial\, Verdana\, " text-align:="" text-decoration-color:="" text-decoration-style:="" text-decoration-thickness:="" text-indent:="" text-transform:="" trebuchet="" white-space:="" widows:="" word-spacing:="">!</span><br />\n<br />\nWe will also be naming the recipient of the Royal Order of the Blarney Stone - the 2022 Honorary Irish Person of the Year. You don&#39\;t want to miss this fun and exciting Chamber Breakfast Meeting\, sponsored by The Reis Group!<br />\n<br />\nScroll down to see last year&#39\;s 2021 Irish Person of the Year\, Eleni Loizou!
LOCATION:The Venue Uptown at the Best Western Plus Kingston
UID:e.2300.9715
SEQUENCE:3
DTSTAMP:20260420T224536Z
URL:https://business.ulsterchamber.org/events/details/st-patrick-s-day-breakfast-meeting-9715
END:VEVENT

END:VCALENDAR
