BEGIN:VCALENDAR
VERSION:2.0
PRODID:-//ChamberMaster//Event Calendar 2.0//EN
METHOD:PUBLISH
X-PUBLISHED-TTL:P3D
REFRESH-INTERVAL:P3D
CALSCALE:GREGORIAN
BEGIN:VEVENT
DTSTART:20210710T210000Z
DTEND:20210711T020000Z
X-MICROSOFT-CDO-ALLDAYEVENT:FALSE
SUMMARY:Soyuzivka 14th Annual Festival
DESCRIPTION:Soyuzivka 14th Annual Festival: Largest Ukrainian cultural festival in the United States. A weekend of music and dance.  Vendors\, Arts & Crafts\, Games\, Music and Much More!
X-ALT-DESC;FMTTYPE=text/html:Soyuzivka 14th Annual Festival: Largest Ukrainian cultural festival in the United States. A weekend of music and dance.&nbsp\; Vendors\, Arts &amp\; Crafts\, Games\, Music and Much More!
LOCATION:Soyuzivka Heritage Center
UID:e.2300.9573
SEQUENCE:3
DTSTAMP:20260421T113143Z
URL:https://business.ulsterchamber.org/events/details/soyuzivka-14th-annual-festival-9573
END:VEVENT

END:VCALENDAR
