BEGIN:VCALENDAR
VERSION:2.0
PRODID:-//ChamberMaster//Event Calendar 2.0//EN
METHOD:PUBLISH
X-PUBLISHED-TTL:P3D
REFRESH-INTERVAL:P3D
CALSCALE:GREGORIAN
BEGIN:VEVENT
DTSTART:20210705T150000Z
DTEND:20210705T160000Z
X-MICROSOFT-CDO-ALLDAYEVENT:FALSE
SUMMARY:Something for Alz: Musical Mornings
DESCRIPTION:An interactive musical program for people with dementia and their loved ones with music therapist Shannon Pelcher.
X-ALT-DESC;FMTTYPE=text/html:<span style="color:rgb(34\, 34\, 34)\; font-family:times new roman\; font-size:13pt">An interactive musical program for people with dementia and their loved ones with music therapist Shannon Pelcher. </span>
LOCATION:Virtual
UID:e.2300.9557
SEQUENCE:3
DTSTAMP:20260421T112927Z
URL:https://business.ulsterchamber.org/events/details/something-for-alz-musical-mornings-07-05-2021-9557
END:VEVENT

END:VCALENDAR
