BEGIN:VCALENDAR
VERSION:2.0
PRODID:-//ChamberMaster//Event Calendar 2.0//EN
METHOD:PUBLISH
X-PUBLISHED-TTL:P3D
REFRESH-INTERVAL:P3D
CALSCALE:GREGORIAN
BEGIN:VEVENT
DTSTART:20210715T143000Z
DTEND:20210715T153000Z
X-MICROSOFT-CDO-ALLDAYEVENT:FALSE
SUMMARY:Something for Alz: Mindful Movement
DESCRIPTION:Join our first ever movement series! Move your body gently as a way of self expression. Move to your ability\, no prior experience necessary. The Early-Stage Social Engagement Program offers a fun and comfortable way for people living in the early stage of Alzheimer's or other dementia to get active and get connected with one another through a variety of social events and community-based activities determined by individual needs and interests of the participants and that promote social interaction and companionship.
X-ALT-DESC;FMTTYPE=text/html:Join our first ever movement series! Move your body gently as a way of self expression. Move to your ability\, no prior experience necessary. The Early-Stage Social Engagement Program offers a fun and comfortable way for people living in the early stage of Alzheimer&#39\;s or other dementia to get active and get connected with one another through a variety of social events and community-based activities determined by individual needs and interests of the participants and that promote social interaction and companionship.
LOCATION:Remote
UID:e.2300.9539
SEQUENCE:3
DTSTAMP:20260421T112540Z
URL:https://business.ulsterchamber.org/events/details/something-for-alz-mindful-movement-9539
END:VEVENT

END:VCALENDAR
