BEGIN:VCALENDAR
VERSION:2.0
PRODID:-//ChamberMaster//Event Calendar 2.0//EN
METHOD:PUBLISH
X-PUBLISHED-TTL:P3D
REFRESH-INTERVAL:P3D
CALSCALE:GREGORIAN
BEGIN:VEVENT
DTSTART:20210626T190000Z
DTEND:20210626T210000Z
X-MICROSOFT-CDO-ALLDAYEVENT:FALSE
SUMMARY:Sip Into Summer to Support Astor Services for Children & Families
DESCRIPTION:Spend the afternoon tasting some of the finest wines the Hudson Valley has to offer. Enjoy light fare\, beautiful vistas\, and support a 'Grape' cause. Tickets are $100 per person.\n\n\n\nTicket price includes:\n\n  Meet the winemaker\n\n  Enjoy a tasting flight of various varietals\n\n  Enjoy the VIP wine bar and enjoy your favorite from the tasting and take in the beautiful views of the Milea Estate Vineyard\n\n  Hudson Valley sourced Charcuterie by Chef Frank Ruggerone. (Each guest will be provided with an individual charcuterie plate)\n\n  Advanced Access to Milea's Wine Club Memberships\n\n  Each guest will receive a commemorative tasting glass\, gift and more\n\n\n\nTo purchase tickets: https://www.astorservices.org/event-type/foundation-event/
X-ALT-DESC;FMTTYPE=text/html:Spend the afternoon tasting some of the finest wines the Hudson Valley has to offer. Enjoy light fare\, beautiful vistas\, and support a &lsquo\;Grape&rsquo\; cause. Tickets are $100 per person.<br />\n<br />\nTicket price includes:<br />\n&bull\; Meet the winemaker<br />\n&bull\; Enjoy a tasting flight of various varietals<br />\n&bull\; Enjoy the VIP wine bar and enjoy your favorite from the tasting and take in the beautiful views of the Milea Estate Vineyard<br />\n&bull\; Hudson Valley sourced Charcuterie by Chef Frank Ruggerone. (Each guest will be provided with an individual charcuterie plate)<br />\n&bull\; Advanced Access to Milea&rsquo\;s Wine Club Memberships<br />\n&bull\; Each guest will receive a commemorative tasting glass\, gift and more<br />\n<br />\nTo purchase tickets: https://www.astorservices.org/event-type/foundation-event/
LOCATION:
UID:e.2300.9533
SEQUENCE:3
DTSTAMP:20260421T131015Z
URL:https://business.ulsterchamber.org/events/details/sip-into-summer-to-support-astor-services-for-children-families-9533
END:VEVENT

END:VCALENDAR
