BEGIN:VCALENDAR
VERSION:2.0
PRODID:-//ChamberMaster//Event Calendar 2.0//EN
METHOD:PUBLISH
X-PUBLISHED-TTL:P3D
REFRESH-INTERVAL:P3D
CALSCALE:GREGORIAN
BEGIN:VEVENT
DTSTART:20210704T170000Z
DTEND:20210705T030000Z
X-MICROSOFT-CDO-ALLDAYEVENT:FALSE
SUMMARY:Saugerties Fourth of July Parade and Fireworks
DESCRIPTION:Annual parade of floats\, band and marchers.
X-ALT-DESC;FMTTYPE=text/html:Annual parade of floats\, band and marchers.
LOCATION:Cantine Field
UID:e.2300.9572
SEQUENCE:3
DTSTAMP:20260421T113105Z
URL:https://business.ulsterchamber.org/events/details/saugerties-fourth-of-july-parade-and-fireworks-9572
END:VEVENT

END:VCALENDAR
