BEGIN:VCALENDAR
VERSION:2.0
PRODID:-//ChamberMaster//Event Calendar 2.0//EN
METHOD:PUBLISH
X-PUBLISHED-TTL:P3D
REFRESH-INTERVAL:P3D
CALSCALE:GREGORIAN
BEGIN:VEVENT
DTSTART:20210724T150000Z
DTEND:20210724T190000Z
X-MICROSOFT-CDO-ALLDAYEVENT:FALSE
SUMMARY:Salvation Army Community Fun Day
DESCRIPTION:Everyone is invited to join Kingston Salvation Army Community Fun Day!\n\n\n\nFun for the whole family! Hotdogs\, Hamburgers\, Cold Drinks\, a Fea Market\, Bounce House AND SO MUCH MORE!
X-ALT-DESC;FMTTYPE=text/html:Everyone is invited to join Kingston Salvation Army Community Fun Day!<br />\n<br />\nFun for the whole family! Hotdogs\, Hamburgers\, Cold Drinks\, a Fea Market\, Bounce House AND SO MUCH MORE!
LOCATION:Kingston Salvation Army
UID:e.2300.9548
SEQUENCE:3
DTSTAMP:20260421T112911Z
URL:https://business.ulsterchamber.org/events/details/salvation-army-community-fun-day-07-24-2021-9548
END:VEVENT

END:VCALENDAR
