BEGIN:VCALENDAR
VERSION:2.0
PRODID:-//ChamberMaster//Event Calendar 2.0//EN
METHOD:PUBLISH
X-PUBLISHED-TTL:P3D
REFRESH-INTERVAL:P3D
CALSCALE:GREGORIAN
BEGIN:VEVENT
DTSTART:20210731T203000Z
DTEND:20210801T010000Z
X-MICROSOFT-CDO-ALLDAYEVENT:FALSE
SUMMARY:Radio Woodstock Presents-Nathaniel Rateliff & the Night Sweats and The Marcus King Band
DESCRIPTION:One half of the duo Birds of Chicago\, and founder of the all-female\, Americana supergroup\, Our Native Daughters\, Allison Russell\, is a self-taught singer\, songwriter\, and multi-instrumentalist of extraordinary power\, talent\, and grace. Radio Woodstock's Music Director Aja Whitney says\, "The first time we heard her song\, "Nightflyer" we were obsessed from the jump." Russell made a recent appearance on Jimmy Kimmel Live.
X-ALT-DESC;FMTTYPE=text/html:One half of the duo Birds of Chicago\, and founder of the all-female\, Americana supergroup\, Our Native Daughters\, Allison Russell\, is a self-taught singer\, songwriter\, and multi-instrumentalist of extraordinary power\, talent\, and grace. Radio Woodstock&#39\;s Music Director Aja Whitney says\, &quot\;The first time we heard her song\, &quot\;Nightflyer&quot\; we were obsessed from the jump.&quot\; Russell made a recent appearance on Jimmy Kimmel Live.
LOCATION:Belleayre Mountain
UID:e.2300.9576
SEQUENCE:3
DTSTAMP:20260421T113221Z
URL:https://business.ulsterchamber.org/events/details/radio-woodstock-presents-nathaniel-rateliff-the-night-sweats-and-the-marcus-king-band-9576
END:VEVENT

END:VCALENDAR
