BEGIN:VCALENDAR
VERSION:2.0
PRODID:-//ChamberMaster//Event Calendar 2.0//EN
METHOD:PUBLISH
X-PUBLISHED-TTL:P3D
REFRESH-INTERVAL:P3D
CALSCALE:GREGORIAN
BEGIN:VEVENT
DTSTART:20210515T150000Z
DTEND:20210515T210000Z
X-MICROSOFT-CDO-ALLDAYEVENT:FALSE
SUMMARY:Opus 40 Community Day for Local
DESCRIPTION:Our Community Day offers locals free admission to Opus 40 plus special events! We'll have accordion from Matthew Fass\, tarot readings\, and performers from Bindlestiff Cirkus.\n\n\n\nSign up for a time slot today!\n\nRegister in advance required.
X-ALT-DESC;FMTTYPE=text/html:<span class="d2edcug0 hpfvmrgz qv66sw1b c1et5uql lr9zc1uh a8c37x1j keod5gw0 nxhoafnm aigsh9s9 d3f4x2em fe6kdd0r mau55g9w c8b282yb iv3no6db jq4qci2q a3bd9o3v knj5qynh oo9gr5id hzawbc8m" dir="auto">Our Community Day offers locals free admission to Opus 40 plus special events! We&rsquo\;ll have accordion from Matthew Fass\, tarot readings\, and performers from Bindlestiff Cirkus.<br />\n<br />\nSign up for a time slot today!</span><br />\nRegister in advance required.
LOCATION:
UID:e.2300.9456
SEQUENCE:3
DTSTAMP:20260421T143633Z
URL:https://business.ulsterchamber.org/events/details/opus-40-community-day-for-local-9456
END:VEVENT

END:VCALENDAR
