BEGIN:VCALENDAR
VERSION:2.0
PRODID:-//ChamberMaster//Event Calendar 2.0//EN
METHOD:PUBLISH
X-PUBLISHED-TTL:P3D
REFRESH-INTERVAL:P3D
CALSCALE:GREGORIAN
BEGIN:VEVENT
DTSTART:20210525T140000Z
DTEND:20210525T150000Z
X-MICROSOFT-CDO-ALLDAYEVENT:FALSE
SUMMARY:New York Life: Position Yourself for Business Success in 2021 and Beyond
DESCRIPTION:Some key financial considerations for small business owners\, from managing risk and employee benefits to exit planning and retiring successfully. Professionals from New York Life's Hudson Valley office\, and local accounting and law firms\, will help position area business owners for success.
X-ALT-DESC;FMTTYPE=text/html:Some key financial considerations for small business owners\, from managing risk and employee benefits to exit planning and retiring successfully. Professionals from New York Life&rsquo\;s Hudson Valley office\, and local accounting and law firms\, will help position area business owners for success.
LOCATION:Webinar
UID:e.2300.9485
SEQUENCE:3
DTSTAMP:20260421T144317Z
URL:https://business.ulsterchamber.org/events/details/new-york-life-position-yourself-for-business-success-in-2021-and-beyond-9485
END:VEVENT

END:VCALENDAR
