BEGIN:VCALENDAR
VERSION:2.0
PRODID:-//ChamberMaster//Event Calendar 2.0//EN
METHOD:PUBLISH
X-PUBLISHED-TTL:P3D
REFRESH-INTERVAL:P3D
CALSCALE:GREGORIAN
BEGIN:VEVENT
DTSTART:20220517T210000Z
DTEND:20220517T230000Z
X-MICROSOFT-CDO-ALLDAYEVENT:FALSE
SUMMARY:Networking Mixer @ YMCA of Kingston & Ulster County
DESCRIPTION:The Chamber's Monthly Networking Mixer will take place tomorrow at the YMCA of Kingston & Ulster County. Enjoy complimentary refreshments\, courtesy of Rondout Savings Bank.\n\n \n\nChamber Members are invited to tour the Y and see the $3.6 million in recent investments the YMCA has undergone\, including a brand-new pool\, updated men's and women's locker rooms\, and an all-new membership kiosk. In addition\, the gym floors have all been resurfaced and now feature pickleball\, racquetball\, and handball lines. There's new energy-efficient lighting and new HALO-LED Air Purification Systems in wellness areas and group exercise spaces.\n\n \n\nThe YMCA is a private\, not-for-profit\, community-based organization that provides social\, health\, physical education\, and recreation services to the residents of Ulster County.\n\n\nChamber Mixers are a great way to network and promote your business. Be sure to bring plenty of business cards. There is no charge for Chamber Members to attend but reservations are required. Mixers are open to Chamber Members 21 years of age and older.\n\n\n\nThere is no charge for Chamber Members and Prospective Members to attend but reservations are required. Mixers are open to Chamber Members 21 years of age and older.\n\n\n\nProspective Members interested in attending must contact Carol Ricken (845) 338-5100 ext. 104.\n\n\n\n*Reservation/Cancellation Policy:\n\nTo provide an accurate attendance count reservations must be made in advance\n\n*Cancellations will be accepted up until 24 hours prior to the event.\n\n*No shows will be billed at the rate of $15 per person.
X-ALT-DESC;FMTTYPE=text/html:<div><br />\nThe Chamber&rsquo\;s Monthly Networking Mixer will take place tomorrow at the YMCA of Kingston &amp\; Ulster County. Enjoy complimentary refreshments\, courtesy of Rondout Savings Bank.</div>\n\n<div>&nbsp\;</div>\n\n<div>Chamber Members are invited to tour the Y and see the $3.6 million in recent investments the YMCA has undergone\, including a brand-new pool\, updated men&rsquo\;s and women&rsquo\;s locker rooms\, and an all-new membership kiosk. In addition\, the gym floors have all been resurfaced and now feature pickleball\, racquetball\, and handball lines. There&rsquo\;s new energy-efficient lighting and new HALO-LED Air Purification Systems in wellness areas and group exercise spaces.</div>\n\n<div>&nbsp\;</div>\n\n<div>The YMCA is a private\, not-for-profit\, community-based organization that provides social\, health\, physical education\, and recreation services to the residents of Ulster County.</div>\n<br />\nChamber Mixers are a great way to network and promote your business. Be sure to bring plenty of business cards. There is no charge for Chamber Members to attend but reservations are required. Mixers are open to Chamber Members 21 years of age and older.<br />\n<br />\nThere is no charge for Chamber Members and Prospective Members to attend but reservations are required. Mixers are open to Chamber Members 21 years of age and older.<br />\n<br />\nProspective Members interested in attending must contact Carol Ricken (845) 338-5100 ext. 104.<br />\n<br />\n*Reservation/Cancellation Policy:<br />\nTo provide an accurate attendance count reservations must be made in advance<br />\n*Cancellations will be accepted up until 24 hours prior to the event.<br />\n*No shows will be billed at the rate of $15 per person.
LOCATION:YMCA of Kingston and Ulster County
UID:e.2300.9779
SEQUENCE:3
DTSTAMP:20260420T193825Z
URL:https://business.ulsterchamber.org/events/details/networking-mixer-ymca-of-kingston-ulster-county-9779
END:VEVENT

END:VCALENDAR
