BEGIN:VCALENDAR
VERSION:2.0
PRODID:-//ChamberMaster//Event Calendar 2.0//EN
METHOD:PUBLISH
X-PUBLISHED-TTL:P3D
REFRESH-INTERVAL:P3D
CALSCALE:GREGORIAN
BEGIN:VEVENT
DTSTART;VALUE=DATE:20210410
DTEND;VALUE=DATE:20210411
TRANSP:TRANSPARENT
X-MICROSOFT-CDO-ALLDAYEVENT:TRUE
SUMMARY:Mohonk Preserve: Rock and Snow “Bridge 2 Bridge” Run
DESCRIPTION:The Rock and Snow Bridge 2 Bridge Virtual Run was created as an alternative to the annual 5-mile benefit run organized by Mohonk Preserve with support from the Shawangunk Runners and major sponsorship support from Rock and Snow. Run the actual marked course on your own at Mohonk Preserve's Spring Farm Trailhead or anywhere you like.\n\n\n\nProceeds benefit Mohonk Preserve. Register now and run 5 miles on your own\, self-timed. Registrants receive a virtual race bib that can be shared via social media. When done\, visit the Bridge 2 Bridge Zippy Reg web page and record your time. All registered participants may pick up a branded Mohonk Preserve/Rock and Snow pint glass at Rock and Snow in New Paltz after the run has concluded.\n\n\n\nRegister here
X-ALT-DESC;FMTTYPE=text/html:The Rock and Snow Bridge 2 Bridge Virtual Run was created as an alternative to the annual 5-mile benefit run organized by Mohonk Preserve with support from the Shawangunk Runners and major sponsorship support from Rock and Snow. Run the actual marked course on your own at Mohonk Preserve&rsquo\;s Spring Farm Trailhead or anywhere you like.<br />\n<br />\nProceeds benefit Mohonk Preserve. Register now and run 5 miles on your own\, self-timed. Registrants receive a virtual race bib that can be shared via social media. When done\, visit the Bridge 2 Bridge Zippy Reg web page and record your time. All registered participants may pick up a branded Mohonk Preserve/Rock and Snow pint glass at Rock and Snow in New Paltz after the run has concluded.<br />\n<br />\n<a href="https://zippyreg.com/online_reg/?e=1506" target="_blank"><u><strong>Register here</strong></u></a>
LOCATION:Online
UID:e.2300.9401
SEQUENCE:3
DTSTAMP:20260421T161916Z
URL:https://business.ulsterchamber.org/events/details/mohonk-preserve-rock-and-snow-bridge-2-bridge-run-9401
END:VEVENT

END:VCALENDAR
