BEGIN:VCALENDAR
VERSION:2.0
PRODID:-//ChamberMaster//Event Calendar 2.0//EN
METHOD:PUBLISH
X-PUBLISHED-TTL:P3D
REFRESH-INTERVAL:P3D
CALSCALE:GREGORIAN
BEGIN:VEVENT
DTSTART:20210519T160000Z
DTEND:20210519T170000Z
X-MICROSOFT-CDO-ALLDAYEVENT:FALSE
SUMMARY:MHVSHRM Webinar - Leveraging Emotional Intelligence for Growth and Success
DESCRIPTION:Emotional intelligence quotient\, or EQ\, is a term you've probably heard\, but what does it mean\, and why does it matter? Join us for a special presentation by emotional intelligence expert Mike Poskey\; Leveraging Emotional Intelligence for Growth and Success.
X-ALT-DESC;FMTTYPE=text/html:<span style="color:rgb(68\, 114\, 196)\; font-family:century gothic\,sans-serif\; font-size:18.6667px">Emotional intelligence quotient\, or EQ\, is a term you&#39\;ve probably heard\, but what does it mean\, and why does it matter? Join us for a special presentation by emotional intelligence expert Mike Poskey\; Leveraging Emotional Intelligence for Growth and Success.</span>
LOCATION:ZOOM webinar
UID:e.2300.9436
SEQUENCE:3
DTSTAMP:20260421T144133Z
URL:https://business.ulsterchamber.org/events/details/mhvshrm-webinar-leveraging-emotional-intelligence-for-growth-and-success-9436
END:VEVENT

END:VCALENDAR
