BEGIN:VCALENDAR
VERSION:2.0
PRODID:-//ChamberMaster//Event Calendar 2.0//EN
METHOD:PUBLISH
X-PUBLISHED-TTL:P3D
REFRESH-INTERVAL:P3D
CALSCALE:GREGORIAN
BEGIN:VEVENT
DTSTART:20210708T163000Z
DTEND:20210708T173000Z
X-MICROSOFT-CDO-ALLDAYEVENT:FALSE
SUMMARY:Memory Cafe featuring music with Carmine Grillo
DESCRIPTION:TheEarly-Stage Social Engagement Programoffers a fun and comfortable way for people living in the early stage of Alzheimer's or other dementia to get active and get connected with one another through a variety of social events and community-based activities determined by individual needs and interests of the participants and that promote social interaction and companionship. Four Sessions scheduled onsecond Thursday of the month\; Apr 8\, 2021: Music with Richard Frank May 13\, 2021: Music & Relaxation with Carole Brill Jun 10\, 2021: Music with Melinda Burgard Jul 8\, 2021: Music with Carmen Grillo
X-ALT-DESC;FMTTYPE=text/html:TheEarly-Stage Social Engagement Programoffers a fun and comfortable way for people living in the early stage of Alzheimer&#39\;s or other dementia to get active and get connected with one another through a variety of social events and community-based activities determined by individual needs and interests of the participants and that promote social interaction and companionship. Four Sessions scheduled onsecond Thursday of the month\; Apr 8\, 2021: Music with Richard Frank May 13\, 2021: Music &amp\; Relaxation with Carole Brill Jun 10\, 2021: Music with Melinda Burgard Jul 8\, 2021: Music with Carmen Grillo
LOCATION:Remote
UID:e.2300.9535
SEQUENCE:3
DTSTAMP:20260421T112741Z
URL:https://business.ulsterchamber.org/events/details/memory-cafe-featuring-music-with-carmine-grillo-9535
END:VEVENT

END:VCALENDAR
