BEGIN:VCALENDAR
VERSION:2.0
PRODID:-//ChamberMaster//Event Calendar 2.0//EN
METHOD:PUBLISH
X-PUBLISHED-TTL:P3D
REFRESH-INTERVAL:P3D
CALSCALE:GREGORIAN
BEGIN:VEVENT
DTSTART:20210626T140000Z
DTEND:20210626T210000Z
X-MICROSOFT-CDO-ALLDAYEVENT:FALSE
SUMMARY:HRMM: Wooden Pen Turning Class
DESCRIPTION:Spend the day on the Rondout Creek learning woodworking at the Hudson River Maritime Museum Wooden Boat School! During this introductory woodworking class\, students will use a lathe to create two of their own wooden pens. Participants will learn wood prep\, turning and pen assembly. This class is perfect for the beginner woodworker and instructor Bill Sterling will help students through every step of the process with plenty of tips and tricks. Please register by June 20.\n\n\n\nLearn more and register at www.hrmm.org/woodworking.
X-ALT-DESC;FMTTYPE=text/html:Spend the day on the Rondout Creek learning woodworking at the Hudson River Maritime Museum Wooden Boat School! During this introductory woodworking class\, students will use a lathe to create two of their own wooden pens. Participants will learn wood prep\, turning and pen assembly. This class is perfect for the beginner woodworker and instructor Bill Sterling will help students through every step of the process with plenty of tips and tricks. Please register by June 20.<br />\n<br />\nLearn more and register at <a href="http://www.hrmm.org/woodworking" target="_blank">www.hrmm.org/woodworking</a>.
LOCATION:Hudson River Maritime Museum
UID:e.2300.9432
SEQUENCE:3
DTSTAMP:20260421T130020Z
URL:https://business.ulsterchamber.org/events/details/hrmm-wooden-pen-turning-class-06-26-2021-9432
END:VEVENT

END:VCALENDAR
