BEGIN:VCALENDAR
VERSION:2.0
PRODID:-//ChamberMaster//Event Calendar 2.0//EN
METHOD:PUBLISH
X-PUBLISHED-TTL:P3D
REFRESH-INTERVAL:P3D
CALSCALE:GREGORIAN
BEGIN:VEVENT
DTSTART:20210523T140000Z
DTEND:20210523T200000Z
X-MICROSOFT-CDO-ALLDAYEVENT:FALSE
SUMMARY:HRMM: Live Edge Table Build
DESCRIPTION:Spend the day on the Rondout Creek learning woodworking at the Hudson River Maritime Museum Wooden Boat School. Instructor Wayne Ford will lead a 1-day build of a live edge table. Each student will get to pick a flitch of locally harvested and kiln dried hard wood. Participants will use draw knives\, sanders and other hand tools to remove any bark and smooth the live edge. The piece will then be cut to its final dimensions and planed and smoothed. Finally\, a set of legs will be attached. Each student will leave with their own coffee table ready to have the finish of their choice applied. Please register by May 9.\n\n\n\nLearn more at www.hrmm.org/woodworking.
X-ALT-DESC;FMTTYPE=text/html:Spend the day on the Rondout Creek learning woodworking at the Hudson River Maritime Museum Wooden Boat School. Instructor Wayne Ford will lead a 1-day build of a live edge table. Each student will get to pick a flitch of locally harvested and kiln dried hard wood. Participants will use draw knives\, sanders and other hand tools to remove any bark and smooth the live edge. The piece will then be cut to its final dimensions and planed and smoothed. Finally\, a set of legs will be attached. Each student will leave with their own coffee table ready to have the finish of their choice applied. Please register by May 9.<br />\n<br />\nLearn more at <a href="http://www.hrmm.org/woodworking" target="_blank">www.hrmm.org/woodworking</a>.
LOCATION:Hudson River Maritime Museum
UID:e.2300.9429
SEQUENCE:3
DTSTAMP:20260421T143530Z
URL:https://business.ulsterchamber.org/events/details/hrmm-live-edge-table-build-9429
END:VEVENT

END:VCALENDAR
