BEGIN:VCALENDAR
VERSION:2.0
PRODID:-//ChamberMaster//Event Calendar 2.0//EN
METHOD:PUBLISH
X-PUBLISHED-TTL:P3D
REFRESH-INTERVAL:P3D
CALSCALE:GREGORIAN
BEGIN:VEVENT
DTSTART:20210814T140000Z
DTEND:20210814T190000Z
X-MICROSOFT-CDO-ALLDAYEVENT:FALSE
SUMMARY:HRMM: DIY Shaker Oval Boxes August 14 & 21
DESCRIPTION:Spend the day on the Rondout Creek learning woodworking at the Hudson River Maritime Museum Wooden Boat School! Join us for this unique and fascinating 2-day class as you learn to cut\, bend\, and tack your own Shaker oval boxes\, then peg and glue in the bottom and top. This class takes place on Saturday\, August 14 and Saturday\, August 21. Each student will make four different sized boxes to take home. Each box will be built from a different species of wood. The first day of class will begin with a brief history of this craft and the projects will be started. The boxes will be finished one week later on the second day of class. Please register by August 2.\n\n\n\nLearn more at www.hrmm.org/woodworking.
X-ALT-DESC;FMTTYPE=text/html:Spend the day on the Rondout Creek learning woodworking at the Hudson River Maritime Museum Wooden Boat School! Join us for this unique and fascinating 2-day class as you learn to cut\, bend\, and tack your own Shaker oval boxes\, then peg and glue in the bottom and top. This class takes place on Saturday\, August 14 and Saturday\, August 21. Each student will make four different sized boxes to take home. Each box will be built from a different species of wood. The first day of class will begin with a brief history of this craft and the projects will be started. The boxes will be finished one week later on the second day of class. Please register by August 2.<br />\n<br />\nLearn more at <a href="http://www.hrmm.org/woodworking" target="_blank">www.hrmm.org/woodworking</a>.
LOCATION:Hudson River Maritime Museum
UID:e.2300.9441
SEQUENCE:3
DTSTAMP:20260421T094751Z
URL:https://business.ulsterchamber.org/events/details/hrmm-diy-shaker-oval-boxes-august-14-21-9441
END:VEVENT

END:VCALENDAR
