BEGIN:VCALENDAR
VERSION:2.0
PRODID:-//ChamberMaster//Event Calendar 2.0//EN
METHOD:PUBLISH
X-PUBLISHED-TTL:P3D
REFRESH-INTERVAL:P3D
CALSCALE:GREGORIAN
BEGIN:VEVENT
DTSTART:20210710T130000Z
DTEND:20210710T210000Z
X-MICROSOFT-CDO-ALLDAYEVENT:FALSE
SUMMARY:HRMM: Adirondack Chair Build July 10 & 11
DESCRIPTION:Spend the day on the Rondout Creek learning woodworking at the Hudson River Maritime Museum Wooden Boat School! Students in this 2-day class will be able to build their own custom outdoor chair based on the traditional Adirondack design. Participants will learn to make accurate measurements and cuts\, and to assemble their own chair with our patterns and instruction. The class takes place from 9am to 5pm on both days. Minimal previous woodworking experience necessary. Please register by June 28.\n\n\n\nLearn more at www.hrmm.org/woodworking
X-ALT-DESC;FMTTYPE=text/html:Spend the day on the Rondout Creek learning woodworking at the Hudson River Maritime Museum Wooden Boat School! Students in this 2-day class will be able to build their own custom outdoor chair based on the traditional Adirondack design. Participants will learn to make accurate measurements and cuts\, and to assemble their own chair with our patterns and instruction. The class takes place from 9am to 5pm on both days. Minimal previous woodworking experience necessary. Please register by June 28.<br />\n<br />\nLearn more at <a href="http://www.hrmm.org/woodworking" target="_blank">www.hrmm.org/woodworking</a>
LOCATION:Hudson River Maritime Museum
UID:e.2300.9437
SEQUENCE:3
DTSTAMP:20260421T113104Z
URL:https://business.ulsterchamber.org/events/details/hrmm-adirondack-chair-build-july-10-11-9437
END:VEVENT

END:VCALENDAR
