BEGIN:VCALENDAR
VERSION:2.0
PRODID:-//ChamberMaster//Event Calendar 2.0//EN
METHOD:PUBLISH
X-PUBLISHED-TTL:P3D
REFRESH-INTERVAL:P3D
CALSCALE:GREGORIAN
BEGIN:VEVENT
DTSTART:20210812T160000Z
DTEND:20210812T170000Z
X-MICROSOFT-CDO-ALLDAYEVENT:FALSE
SUMMARY:How to Apply for the NYS Recovery Grant Program
DESCRIPTION:The NYS COVID-19 Pandemic Small Business Recovery Grant Program was created to provide flexible grant assistance to currently viable small businesses\, micro-businesses and for-profit independent arts and cultural organizations who have experienced economic hardship due the COVID-19 pandemic.\n\n\n\nLearn how to apply for the NYS Recovery Grant Program at this free WEDC webinar.
X-ALT-DESC;FMTTYPE=text/html:<p><span style="font-size:16px"><span style="color:rgb(0\, 0\, 0)\; font-family:open sans\,sans-serif">The NYS COVID-19 Pandemic Small Business Recovery Grant Program was created to provide flexible grant assistance to currently viable small businesses\, micro-businesses and for-profit independent arts and cultural organizations who have experienced economic hardship due the COVID-19 pandemic.<br />\n<br />\nLearn how to apply for the NYS Recovery Grant Program at this free WEDC webinar.</span></span></p>\n
LOCATION:Online
UID:e.2300.9593
SEQUENCE:3
DTSTAMP:20260421T094828Z
URL:https://business.ulsterchamber.org/events/details/how-to-apply-for-the-nys-recovery-grant-program-9593
END:VEVENT

END:VCALENDAR
