BEGIN:VCALENDAR
VERSION:2.0
PRODID:-//ChamberMaster//Event Calendar 2.0//EN
METHOD:PUBLISH
X-PUBLISHED-TTL:P3D
REFRESH-INTERVAL:P3D
CALSCALE:GREGORIAN
BEGIN:VEVENT
DTSTART:20211023T120000Z
DTEND:20211024T020000Z
X-MICROSOFT-CDO-ALLDAYEVENT:FALSE
SUMMARY:God and Country Veterans Living History Event
DESCRIPTION:Hear notable veterans from WWII to today\, speak about their experiences.\n\n\n\nVeterans Speaking October 23rd\, 2021\n\n\n\nLew Paper\,  FL\, Author - IN THE CAULDRON: Terror\, Tension\, and the American Ambassador's Struggle to avoid Pearl Harbor.\n\n\n\nArmando "Chick" Galella\, NY\, WWII US ARMY\, Pearl Harbor survivor at Hickam Field with 443rd Heavy Construction Signal Corps. Went to Tinian\, Saipan and fought at the Battle of Okinawa.\n\n\n\nJack Holder\, AZ\, WWII\, US Navy. Flew PBY's\, Pearl Harbor Survivor. One of the first planes to spot the Japanese at the Battle of Midway. Credited with sinking a Jananese sub.\n\n\n\nHank Kudzik\, PA\, WWII US Navy. Chief Petty Officer. Officer on the USS Nautilus & USS Gar. 13 war patrols and fought at the Battle of Midway.\n\n\n\nCharles Brooking\, PA\, WWII US Navy. Southwest Pacific Theater with Motor Torpedo BOat Squadrons 16 and 42. He was a twin .50 Cal gunner PT-223\, PT-617\, PT-619 and PT-621.\n\n\n\nMatt Gutman\, PA\, WWII US Navy\, Was a Higgins Boat driver. Made six landings in the Pacific\, Peleiu\, leyte Gulf\, Mindoro\, Subic Bay\, Luzon\, and Okinawa. He survived many brutal landing. Brought many wounded Marines and Soldiers back to the hospital ships and survived several Kamikaze attacks throughout his tour of duty.\n\n\n\nBernie Ruchin\, NH\, WWII\, US 2nd Marine Div. Gunnery Sergeant. Fought on Saipan & Tinian. Received a Purple Heart.\n\n\n\nAlan Moskin\, NY\, WWII\, US Army\, 66th Infantry\, 71st Div - Part of Patton's 3rd Army. Fought in France\, Germany & Austria. Helped liberate Gunskirchen Concentration Camp.\n\n\n\nJoshua Kaufman\, CA\, WWII Holocaust Survivor. Surived Aushwitz/Birkenau\, Dauchau\, Muhldorf and the Death March. Liberated by American soldiers. 24 year career in the IDF and served in three wars\; 1956\, 1967 and 1973.\n\n\n\nCarey Rhodomoyer\, PA\, Vietnam\, US Army\, 1967 - 68 B Co. 4th Inf Div Crewchief and Doorgunner on UH-1C Gunship\, Dal to Offensive\, Siege of Kontum\, and Tet Offensive. Air Medal w/8 Oak Leaf Clusters\, Purple Heart.\n\n\n\nBob Smith\, PA\, Vietnam\, US Army\, 1968-70 Bravo Co. 199th Light Infantry Brigade 3rd Bn 7th Infantry Div. 11B40 Sergeant -squad leader. Two Purple Hearts and Bronze Star w/ 5 Oak Clusters.\n\n\n\nSusan Price\, FL\, National Gold Star Mother\, an Army Veteran and the daughter of a Marine. She is also the mother of a fallen Marine Hero\, Gunnery Sergeant Aaron M. Kenefick\, USMC\, KIA 8 September 2009\, Kunar Province\, Afghanistan.\n\n\n\nThese speakers will be appearing so long as health permits.\n\nALL SPEAKERS WERE COMBAT VETERANS.
X-ALT-DESC;FMTTYPE=text/html:<span style="font-size:18px\;">Hear notable veterans from WWII to today\, speak about their experiences.</span><br />\n<br />\n<span style="font-size:16px\;"><strong>Veterans Speaking October 23rd\, 2021</strong></span><br />\n<br />\n<u><strong>Lew Paper</strong></u>\,&nbsp\; FL\, Author - IN THE CAULDRON: Terror\, Tension\, and the American Ambassador&#39\;s Struggle to avoid Pearl Harbor.<br />\n<br />\n<u><strong>Armando &quot\;Chick&quot\; Galella</strong></u>\, NY\, WWII US ARMY\, Pearl Harbor survivor at Hickam Field with 443rd Heavy Construction Signal Corps. Went to Tinian\, Saipan and fought at the Battle of Okinawa.<br />\n<br />\n<u><strong>Jack Holder</strong></u>\, AZ\, WWII\, US Navy. Flew PBY&#39\;s\, Pearl Harbor Survivor. One of the first planes to spot the Japanese at the Battle of Midway. Credited with sinking a Jananese sub.<br />\n<br />\n<strong><u>Hank Kudzik</u></strong>\, PA\, WWII US Navy. Chief Petty Officer. Officer on the USS Nautilus &amp\; USS Gar. 13 war patrols and fought at the Battle of Midway.<br />\n<br />\n<u><strong>Charles Brooking</strong></u>\, PA\, WWII US Navy. Southwest Pacific Theater with Motor Torpedo BOat Squadrons 16 and 42. He was a twin .50 Cal gunner PT-223\, PT-617\, PT-619 and PT-621.<br />\n<br />\n<strong><u>Matt Gutman</u></strong>\, PA\, WWII US Navy\, Was a Higgins Boat driver. Made six landings in the Pacific\, Peleiu\, leyte Gulf\, Mindoro\, Subic Bay\, Luzon\, and Okinawa. He survived many brutal landing. Brought many wounded Marines and Soldiers back to the hospital ships and survived several Kamikaze attacks throughout his tour of duty.<br />\n<br />\n<strong><u>Bernie Ruchin</u></strong>\, NH\, WWII\, US 2nd Marine Div. Gunnery Sergeant. Fought on Saipan &amp\; Tinian. Received a Purple Heart.<br />\n<br />\n<u><strong>Alan Moskin</strong></u>\, NY\, WWII\, US Army\, 66th Infantry\, 71st Div - Part of Patton&#39\;s 3rd Army. Fought in France\, Germany &amp\; Austria. Helped liberate Gunskirchen Concentration Camp.<br />\n<br />\n<u><strong>Joshua Kaufman</strong></u>\, CA\, WWII Holocaust Survivor. Surived Aushwitz/Birkenau\, Dauchau\, Muhldorf and the Death March. Liberated by American soldiers. 24 year career in the IDF and served in three wars\; 1956\, 1967 and 1973.<br />\n<br />\n<u><strong>Carey Rhodomoyer</strong></u>\, PA\, Vietnam\, US Army\, 1967 - 68 B Co. 4th Inf Div Crewchief and Doorgunner on UH-1C Gunship\, Dal to Offensive\, Siege of Kontum\, and Tet Offensive. Air Medal w/8 Oak Leaf Clusters\, Purple Heart.<br />\n<br />\n<strong><u>Bob Smith</u></strong>\, PA\, Vietnam\, US Army\, 1968-70 Bravo Co. 199th Light Infantry Brigade 3rd Bn 7th Infantry Div. 11B40 Sergeant -squad leader. Two Purple Hearts and Bronze Star w/ 5 Oak Clusters.<br />\n<br />\n<u><strong>Susan Price</strong></u>\, FL\, National Gold Star Mother\, an Army Veteran and the daughter of a Marine. She is also the mother of a fallen Marine Hero\, Gunnery Sergeant Aaron M. Kenefick\, USMC\, KIA 8 September 2009\, Kunar Province\, Afghanistan.<br />\n<br />\nThese speakers will be appearing so long as health permits.<br />\nALL SPEAKERS WERE COMBAT VETERANS.<br />\n<br />\n<br />\n&nbsp\;
LOCATION:The Venue Uptown
UID:e.2300.9668
SEQUENCE:3
DTSTAMP:20260421T063653Z
URL:https://business.ulsterchamber.org/events/details/god-and-country-veterans-living-history-event-9668
END:VEVENT

END:VCALENDAR
