BEGIN:VCALENDAR
VERSION:2.0
PRODID:-//ChamberMaster//Event Calendar 2.0//EN
METHOD:PUBLISH
X-PUBLISHED-TTL:P3D
REFRESH-INTERVAL:P3D
CALSCALE:GREGORIAN
BEGIN:VEVENT
DTSTART:20210801T130000Z
DTEND:20210801T190000Z
X-MICROSOFT-CDO-ALLDAYEVENT:FALSE
SUMMARY:Emerson Car Show
DESCRIPTION:The annual Emerson Resort & Spa Car Show is roaring back to the Emerson fields!  Following last year's absence due to the pandemic\, we're expecting an even bigger turnout of the best in classic and modern car models participating in this year's race for the Emerson Car Show trophies!  Be sure to join us for great cars\, great food and a great cause!
X-ALT-DESC;FMTTYPE=text/html:The annual Emerson Resort &amp\; Spa Car Show is roaring back to the Emerson fields!&nbsp\; Following last year&rsquo\;s absence due to the pandemic\, we&rsquo\;re expecting an even bigger turnout of the best in classic and modern car models participating in this year&rsquo\;s race for the Emerson Car Show trophies!&nbsp\; Be sure to join us for great cars\, great food and a great cause!
LOCATION:Emerson Resort & Spa
UID:e.2300.9588
SEQUENCE:3
DTSTAMP:20260421T094616Z
URL:https://business.ulsterchamber.org/events/details/emerson-car-show-9588
END:VEVENT

END:VCALENDAR
