BEGIN:VCALENDAR
VERSION:2.0
PRODID:-//ChamberMaster//Event Calendar 2.0//EN
METHOD:PUBLISH
X-PUBLISHED-TTL:P3D
REFRESH-INTERVAL:P3D
CALSCALE:GREGORIAN
BEGIN:VEVENT
DTSTART:20210716T230000Z
DTEND:20210717T010000Z
X-MICROSOFT-CDO-ALLDAYEVENT:FALSE
SUMMARY:Denizen Theatre: Summer Reading Series Kick Off July 16 & 17
DESCRIPTION:Kicking off the series is the regional premiere of "Need to Know" by Jonathan Caren. "Need to Know" details a young couple's use of the internet to uncover everything they think they know about their new neighbor until they realize the apartment walls are thin and he might be able to hear everything.
X-ALT-DESC;FMTTYPE=text/html:Kicking off the series is the regional premiere of &ldquo\;Need to Know&rdquo\; by Jonathan Caren. &ldquo\;Need to Know&rdquo\; details a young couple&#39\;s use of the internet to uncover everything they think they know about their new neighbor until they realize the apartment walls are thin and he might be able to hear everything.
LOCATION:Outdoors at Water Street Market
UID:e.2300.9575
SEQUENCE:3
DTSTAMP:20260421T113055Z
URL:https://business.ulsterchamber.org/events/details/denizen-theatre-summer-reading-series-kick-off-july-16-17-9575
END:VEVENT

END:VCALENDAR
