BEGIN:VCALENDAR
VERSION:2.0
PRODID:-//ChamberMaster//Event Calendar 2.0//EN
METHOD:PUBLISH
X-PUBLISHED-TTL:P3D
REFRESH-INTERVAL:P3D
CALSCALE:GREGORIAN
BEGIN:VEVENT
DTSTART:20210530T150000Z
DTEND:20210530T190000Z
X-MICROSOFT-CDO-ALLDAYEVENT:FALSE
SUMMARY:Catskill Mountain Railroad Ice Cream Sundays
DESCRIPTION:Enjoy a delicious ice cream treat as you see the natural beauty and fresh air of the Catskills from our railroad's scenic train. We are only using our open air flat cars.\n\n\n\nPassenger count is limited to 60 people per train. 11 a.m.\, 1 p.m. and 3 p.m. Book reservations online.
X-ALT-DESC;FMTTYPE=text/html:Enjoy a delicious ice cream treat as you see the natural beauty and fresh air of the Catskills from our railroad&rsquo\;s scenic train. We are only using our open air flat cars.<br />\n<br />\nPassenger count is limited to 60 people per train. 11 a.m.\, 1 p.m. and 3 p.m. <strong><a href="https://www.dynamicticketsolutions.com/cmrr/index-responsive.cfm?pgfn=list&amp\;template_ID=0&amp\;DateDetail=2021-05-30" target="_blank">Book reservations online</a></strong>.
LOCATION:Catskill Mountain Railroad
UID:e.2300.9457
SEQUENCE:3
DTSTAMP:20260421T143908Z
URL:https://business.ulsterchamber.org/events/details/catskill-mountain-railroad-ice-cream-sundays-9457
END:VEVENT

END:VCALENDAR
