BEGIN:VCALENDAR
VERSION:2.0
PRODID:-//ChamberMaster//Event Calendar 2.0//EN
METHOD:PUBLISH
X-PUBLISHED-TTL:P3D
REFRESH-INTERVAL:P3D
CALSCALE:GREGORIAN
BEGIN:VEVENT
DTSTART:20220314T214500Z
DTEND:20220315T004500Z
X-MICROSOFT-CDO-ALLDAYEVENT:FALSE
SUMMARY:CanCode Communities' JavaScript Frameworks
DESCRIPTION:Do you have experience with JavaScript but would like to know more? CanCode Communities' JavaScript Frameworks program may be perfect for you! This is an intermediate class suitable for students who have a strong foundation in JavaScript. It begins by solidifying student skills in functional programming\, higher order functions\, callbacks\, currying\, recursions and promises. JSX and Virtual DOM are covered and practiced\, then the curriculum dives into components in React.js and other currently popular frameworks.
X-ALT-DESC;FMTTYPE=text/html:Do you have experience with JavaScript but would like to know more? CanCode Communities&#39\; JavaScript Frameworks program may be perfect for you! This is an intermediate class suitable for students who have a strong foundation in JavaScript. It begins by solidifying student skills in functional programming\, higher order functions\, callbacks\, currying\, recursions and promises. JSX and Virtual DOM are covered and practiced\, then the curriculum dives into components in React.js and other currently popular frameworks.
LOCATION:All programs will be held virtually using Microsoft Teams.
UID:e.2300.9743
SEQUENCE:3
DTSTAMP:20260420T224259Z
URL:https://business.ulsterchamber.org/events/details/cancode-communities-javascript-frameworks-9743
END:VEVENT

END:VCALENDAR
