BEGIN:VCALENDAR
VERSION:2.0
PRODID:-//ChamberMaster//Event Calendar 2.0//EN
METHOD:PUBLISH
X-PUBLISHED-TTL:P3D
REFRESH-INTERVAL:P3D
CALSCALE:GREGORIAN
BEGIN:VEVENT
DTSTART:20210819T220000Z
DTEND:20210820T000000Z
X-MICROSOFT-CDO-ALLDAYEVENT:FALSE
SUMMARY:Camino a la Iniciativa Empresarial
DESCRIPTION:En este taller virtual de dos horas aprenda sobre:\n\n\n	Las caracter sticas de un empresario exitoso\n	Qu  implica ser un due o de negocio\n	Que se necesita hacer para abrir su propio negocio\n	Quienes ser n sus clientes y su competencia\n	Donde conseguir permisos y licencias para su negocio\n	Recursos que WEDC ofrece para ayudarlo a tener  xito y mucho m s!
X-ALT-DESC;FMTTYPE=text/html:<p><strong><span style="font-size:16px">En este taller virtual de dos horas aprenda sobre:</span></strong></p>\n\n<ul>\n	<li><span style="font-size:16px">Las caracter&iacute\;sticas de un empresario exitoso</span></li>\n	<li><span style="font-size:16px">Qu&eacute\; implica ser un due&ntilde\;o de negocio</span></li>\n	<li><span style="font-size:16px">Que se necesita hacer para abrir su propio negocio</span></li>\n	<li><span style="font-size:16px">Quienes ser&aacute\;n sus clientes y su competencia</span></li>\n	<li><span style="font-size:16px">Donde conseguir permisos y licencias para su negocio</span></li>\n	<li><span style="font-size:16px">Recursos que WEDC ofrece para ayudarlo a tener &eacute\;xito y mucho m&aacute\;s!</span></li>\n</ul>\n
LOCATION:En l nea
UID:e.2300.9529
SEQUENCE:3
DTSTAMP:20260421T095111Z
URL:https://business.ulsterchamber.org/events/details/camino-a-la-iniciativa-empresarial-08-19-2021-9529
END:VEVENT

END:VCALENDAR
