BEGIN:VCALENDAR
VERSION:2.0
PRODID:-//ChamberMaster//Event Calendar 2.0//EN
METHOD:PUBLISH
X-PUBLISHED-TTL:P3D
REFRESH-INTERVAL:P3D
CALSCALE:GREGORIAN
BEGIN:VEVENT
DTSTART:20210622T130000Z
DTEND:20210622T143000Z
X-MICROSOFT-CDO-ALLDAYEVENT:FALSE
SUMMARY:Business Card Exchange - In Person @ The Venue Uptown
DESCRIPTION:Please join us for an in-person Business Card Exchange held at The Venue Uptown. This NO COST networking event gives Chamber Members the opportunity to connect with other Chamber Members and to promote their businesses. All Chamber Members will have two to three minutes to talk about their business and hand out business cards. Don't keep your business a secret. Referrals from other people are one of the most powerful ways to build your business!\n\n\n\nComplimentary Continental Breakfast will be served. Space is limited and reservations are required.\n\n\n\nDue to limited space\, please notify the Chamber Office at 845.338.5100 if you become unable to attend this event.
X-ALT-DESC;FMTTYPE=text/html:<div>Please join us for an in-person Business Card Exchange held at The Venue Uptown. This NO COST networking event gives Chamber Members the opportunity to connect with other Chamber Members and to promote their businesses. All Chamber Members will have two to three minutes to talk about their business and hand out business cards. Don&#39\;t keep your business a secret. Referrals from other people are one of the most powerful ways to build your business!<br />\n<br />\nComplimentary Continental Breakfast will be served. Space is limited and reservations are required.<br />\n<br />\n<span style="color:#FF0000\;"><strong>Due to limited space\, please notify the Chamber Office at 845.338.5100 if you become unable to attend this event.</strong></span></div>\n
LOCATION:The Venue Uptown
UID:e.2300.9489
SEQUENCE:3
DTSTAMP:20260421T130352Z
URL:https://business.ulsterchamber.org/events/details/business-card-exchange-in-person-the-venue-uptown-06-22-2021-9489
END:VEVENT

END:VCALENDAR
