BEGIN:VCALENDAR
VERSION:2.0
PRODID:-//ChamberMaster//Event Calendar 2.0//EN
METHOD:PUBLISH
X-PUBLISHED-TTL:P3D
REFRESH-INTERVAL:P3D
CALSCALE:GREGORIAN
BEGIN:VEVENT
DTSTART:20210803T230000Z
DTEND:20210804T003000Z
X-MICROSOFT-CDO-ALLDAYEVENT:FALSE
SUMMARY:Blauweiss Media: Story of Historic Kingston Book\, Part 1 The Roaring 1820s: The Birth of Industry\, Leisure & Art in the Hudson Valley
DESCRIPTION:Based on our upcoming book The Story of Historic Kingston:  A Journey Through the Hudson Valley and its Connections with New York City\, featuring over 800 photographs\, this PhotoTalk covers a thriving era in Kingston and Hudson Valley history and their intricate relationship with New York City's development.\n\n\n\nTopics include:\n\n\n	\n	Glass\, Tanning & Barrels\n	\n	\n	Mountain Houses & Tourism\n	\n	\n	Hudson River School Painters\n	\n	\n	Delaware & Hudson Canal\n	\n	\n	Bluestone\, Brick\, Cement\n	\n	\n	Ice Harvesting\n	\n\n\n There will also be time for discussion and Q&A. Whether you're a novice or an expert you'll be surprised how much there is to discover this is not your 8th grade history class! See a short sample of another topic from the book here.
X-ALT-DESC;FMTTYPE=text/html:<div data-testid="richTextElement" id="comp-kjyla373">\n<p>Based on our <a href="https://www.hudsonvalleyhistoryandart.com/kingstonbook" target="_self">upcoming book</a> The Story of Historic Kingston: &nbsp\;A Journey Through the Hudson Valley and its Connections with New York City\, featuring over 800 photographs\, this PhotoTalk covers a thriving era in Kingston and Hudson Valley history and their intricate relationship with New York City&#39\;s development.<br />\n<br />\nTopics include:</p>\n\n<ul>\n	<li>\n	<p>Glass\, Tanning &amp\; Barrels</p>\n	</li>\n	<li>\n	<p>Mountain Houses &amp\; Tourism</p>\n	</li>\n	<li>\n	<p>Hudson River School Painters</p>\n	</li>\n	<li>\n	<p>Delaware &amp\; Hudson Canal</p>\n	</li>\n	<li>\n	<p>Bluestone\, Brick\, Cement</p>\n	</li>\n	<li>\n	<p>Ice Harvesting</p>\n	</li>\n</ul>\n\n<p>&#8203\;There will also be time for discussion and Q&amp\;A. Whether you&#39\;re a novice or an expert you&#39\;ll be surprised how much there is to discover&mdash\;this is not your 8th grade history class! See a short sample of another topic from the book <a href="https://www.hudsonvalleyhistoryandart.com/kingstonbook" target="_self">here</a>.</p>\n</div>\n
LOCATION:Zoom
UID:e.2300.9592
SEQUENCE:3
DTSTAMP:20260421T095259Z
URL:https://business.ulsterchamber.org/events/details/blauweiss-media-story-of-historic-kingston-book-part-1-the-roaring-1820s-the-birth-of-industry-leisure-art-in-the-hudson-valley-9592
END:VEVENT

END:VCALENDAR
