BEGIN:VCALENDAR
VERSION:2.0
PRODID:-//ChamberMaster//Event Calendar 2.0//EN
METHOD:PUBLISH
X-PUBLISHED-TTL:P3D
REFRESH-INTERVAL:P3D
CALSCALE:GREGORIAN
BEGIN:VEVENT
DTSTART:20210429T230000Z
DTEND:20210430T003000Z
X-MICROSOFT-CDO-ALLDAYEVENT:FALSE
SUMMARY:Blauweiss Media: Story of Historic Kingston Book\, Part 1 The Roaring 1820s: The Birth of Industry\, Leisure & Art in the Hudson Valley
DESCRIPTION:Based on our upcoming book The Story of Historic Kingston:  A Journey Through the Hudson Valley and its Connections with New York City\, featuring over 800 photographs\, this PhotoTalk covers a thriving era in Kingston and Hudson Valley history and their intricate relationship with New York City's development.\n\n\n\nTopics include:\n\n	Glass\, Tanning & Barrels\n	Mountain Houses & Tourism\n	Hudson River School Painters\n	Delaware & Hudson Canal\n	Bluestone\, Brick\, Cement\n	Ice Harvesting\n\n\n\n There will also be time for discussion and Q&A. Whether you're a novice or an expert you'll be surprised how much there is to discover this is not your 8th grade history class! See a short sample of another topic from the book here.
X-ALT-DESC;FMTTYPE=text/html:Based on our upcoming book The Story of Historic Kingston:&nbsp\; A Journey Through the Hudson Valley and its Connections with New York City\, featuring over 800 photographs\, this PhotoTalk covers a thriving era in Kingston and Hudson Valley history and their intricate relationship with New York City&#39\;s development.<br />\n<br />\nTopics include:\n<ul>\n	<li>Glass\, Tanning &amp\; Barrels</li>\n	<li>Mountain Houses &amp\; Tourism</li>\n	<li>Hudson River School Painters</li>\n	<li>Delaware &amp\; Hudson Canal</li>\n	<li>Bluestone\, Brick\, Cement</li>\n	<li>Ice Harvesting</li>\n</ul>\n<br />\n&#8203\;There will also be time for discussion and Q&amp\;A. Whether you&#39\;re a novice or an expert you&#39\;ll be surprised how much there is to discover&mdash\;this is not your 8th grade history class! See a short sample of another topic from the book here.
LOCATION:Zoom
UID:e.2300.9413
SEQUENCE:3
DTSTAMP:20260421T162908Z
URL:https://business.ulsterchamber.org/events/details/blauweiss-media-story-of-historic-kingston-book-part-1-the-roaring-1820s-the-birth-of-industry-leisure-art-in-the-hudson-valley-9413
END:VEVENT

END:VCALENDAR
