BEGIN:VCALENDAR
VERSION:2.0
PRODID:-//ChamberMaster//Event Calendar 2.0//EN
METHOD:PUBLISH
X-PUBLISHED-TTL:P3D
REFRESH-INTERVAL:P3D
CALSCALE:GREGORIAN
BEGIN:VEVENT
DTSTART:20220227T000000Z
DTEND:20220227T040000Z
X-MICROSOFT-CDO-ALLDAYEVENT:FALSE
SUMMARY:Bearsville Theater Presents Comedian Pete Correale
DESCRIPTION:Pete Correale is a professional stand up comedian originally from New York. His comedy is reflective of his life and the experiences he's been through. Being married for almost twenty years and having a young daughter\, Pete's never at a loss for material. With a conversational delivery and disarming regular New York guy attitude\, Pete makes you feel like you're listening to the funniest guy at a party as opposed to just another comedian on a stage\; combined with top notch writing skills\, this has led Pete to the top of the stand up profession.
X-ALT-DESC;FMTTYPE=text/html:Pete Correale is a professional stand up comedian originally from New York. His comedy is reflective of his life and the experiences he&rsquo\;s been through. Being married for almost twenty years and having a young daughter\, Pete&rsquo\;s never at a loss for material. With a conversational delivery and disarming regular New York guy attitude\, Pete makes you feel like you&rsquo\;re listening to the funniest guy at a party as opposed to just another comedian on a stage\; combined with top notch writing skills\, this has led Pete to the top of the stand up profession.
LOCATION:
UID:e.2300.9710
SEQUENCE:3
DTSTAMP:20260421T002528Z
URL:https://business.ulsterchamber.org/events/details/bearsville-theater-presents-comedian-pete-correale-9710
END:VEVENT

END:VCALENDAR
