BEGIN:VCALENDAR
VERSION:2.0
PRODID:-//ChamberMaster//Event Calendar 2.0//EN
METHOD:PUBLISH
X-PUBLISHED-TTL:P3D
REFRESH-INTERVAL:P3D
CALSCALE:GREGORIAN
BEGIN:VEVENT
DTSTART:20210724T170000Z
DTEND:20210724T193000Z
X-MICROSOFT-CDO-ALLDAYEVENT:FALSE
SUMMARY:AlzWell Social Club
DESCRIPTION:AlzWell prescreening required. Call 800-272-3900 for a Care Consultation and prescreening appointment. TheEarly/middle-Stage Social Engagement Program offers a fun and comfortable way for people living in the early stage of Alzheimer's or other dementia to get active and get connected with one another through a variety of social events and community-based activities determined by individual needs and interests of the participants and that promote social interaction and companionship.
X-ALT-DESC;FMTTYPE=text/html:AlzWell prescreening required. Call 800-272-3900 for a Care Consultation and prescreening appointment. TheEarly/middle-Stage Social Engagement Program offers a fun and comfortable way for people living in the early stage of Alzheimer&#39\;s or other dementia to get active and get connected with one another through a variety of social events and community-based activities determined by individual needs and interests of the participants and that promote social interaction and companionship.
LOCATION:Remote
UID:e.2300.9544
SEQUENCE:3
DTSTAMP:20260421T113142Z
URL:https://business.ulsterchamber.org/events/details/alzwell-social-club-07-24-2021-9544
END:VEVENT

END:VCALENDAR
