BEGIN:VCALENDAR
VERSION:2.0
PRODID:-//ChamberMaster//Event Calendar 2.0//EN
METHOD:PUBLISH
X-PUBLISHED-TTL:P3D
REFRESH-INTERVAL:P3D
CALSCALE:GREGORIAN
BEGIN:VEVENT
DTSTART:20210417T150000Z
DTEND:20210417T153000Z
X-MICROSOFT-CDO-ALLDAYEVENT:FALSE
SUMMARY:Alzheimer's Association: Virtual Visit with NY Therapy Animals
DESCRIPTION:Virtual Visit with NY Therapy Animals
X-ALT-DESC;FMTTYPE=text/html:Virtual Visit with NY Therapy Animals
LOCATION:VIRTUAL
UID:e.2300.9379
SEQUENCE:3
DTSTAMP:20260421T161723Z
URL:https://business.ulsterchamber.org/events/details/alzheimer-s-association-virtual-visit-with-ny-therapy-animals-9379
END:VEVENT

END:VCALENDAR
