BEGIN:VCALENDAR
VERSION:2.0
PRODID:-//ChamberMaster//Event Calendar 2.0//EN
METHOD:PUBLISH
X-PUBLISHED-TTL:P3D
REFRESH-INTERVAL:P3D
CALSCALE:GREGORIAN
BEGIN:VEVENT
DTSTART:20210413T160000Z
DTEND:20210413T170000Z
X-MICROSOFT-CDO-ALLDAYEVENT:FALSE
SUMMARY:Alzheimer's Association: Virtual Understanding and Responding to Dementia-Related Behavior - Lunch & Learn Series
DESCRIPTION:Behavior is a powerful form of communication and is one of the primary ways for people with dementia to communicate their needs and feelings as the ability to use language is lost. However\, some behaviors can present real challenges for caregivers to manage. Join us to learn to decode behavioral messages\, identify common behavior triggers\, and learn strategies to help intervene with some of the most common behavioral challenges of Alzheimer's disease.
X-ALT-DESC;FMTTYPE=text/html:Behavior is a powerful form of communication and is one of the primary ways for people with dementia to communicate their needs and feelings as the ability to use language is lost. However\, some behaviors can present real challenges for caregivers to manage. Join us to learn to decode behavioral messages\, identify common behavior triggers\, and learn strategies to help intervene with some of the most common behavioral challenges of Alzheimer&rsquo\;s disease.
LOCATION:VIRTUAL
UID:e.2300.9369
SEQUENCE:3
DTSTAMP:20260421T144045Z
URL:https://business.ulsterchamber.org/events/details/alzheimer-s-association-virtual-understanding-and-responding-to-dementia-related-behavior-lunch-learn-series-9369
END:VEVENT

END:VCALENDAR
