BEGIN:VCALENDAR
VERSION:2.0
PRODID:-//ChamberMaster//Event Calendar 2.0//EN
METHOD:PUBLISH
X-PUBLISHED-TTL:P3D
REFRESH-INTERVAL:P3D
CALSCALE:GREGORIAN
BEGIN:VEVENT
DTSTART:20210428T230000Z
DTEND:20210429T000000Z
X-MICROSOFT-CDO-ALLDAYEVENT:FALSE
SUMMARY:Alzheimer's Association: Virtual Effective Communication Strategies
DESCRIPTION:Communication is more than just talking and listening   it's also about sending and receiving messages through attitude\, tone of voice\, facial expressions and body language. As people with Alzheimer's disease and other dementias progress in their journey and the ability to use words is lost\, families need new ways to connect.\n\n\n\nJoin us to explore how communication takes place when someone has Alzheimer's\, learn to decode the verbal and behavioral messages delivered by someone with dementia\, and identify strategies to help you connect and communicate at each stage of the disease. The Effective Communication Strategies program of the Alzheimer's Association was designed to provide practical information and resources to help dementia caregivers learn to decode verbal and behavioral messages from people with dementia.
X-ALT-DESC;FMTTYPE=text/html:Communication is more than just talking and listening &ndash\; it&rsquo\;s also about sending and receiving messages through attitude\, tone of voice\, facial expressions and body language. As people with Alzheimer&rsquo\;s disease and other dementias progress in their journey and the ability to use words is lost\, families need new ways to connect.<br />\n<br />\nJoin us to explore how communication takes place when someone has Alzheimer&rsquo\;s\, learn to decode the verbal and behavioral messages delivered by someone with dementia\, and identify strategies to help you connect and communicate at each stage of the disease. The Effective Communication Strategies program of the Alzheimer&rsquo\;s Association was designed to provide practical information and resources to help dementia caregivers learn to decode verbal and behavioral messages from people with dementia.
LOCATION:VIRTUAL
UID:e.2300.9378
SEQUENCE:3
DTSTAMP:20260421T162245Z
URL:https://business.ulsterchamber.org/events/details/alzheimer-s-association-virtual-effective-communication-strategies-9378
END:VEVENT

END:VCALENDAR
