BEGIN:VCALENDAR
VERSION:2.0
PRODID:-//ChamberMaster//Event Calendar 2.0//EN
METHOD:PUBLISH
X-PUBLISHED-TTL:P3D
REFRESH-INTERVAL:P3D
CALSCALE:GREGORIAN
BEGIN:VEVENT
DTSTART:20210503T200000Z
DTEND:20210503T210000Z
X-MICROSOFT-CDO-ALLDAYEVENT:FALSE
SUMMARY:Alzheimer's Association: Virtual Caregiver Book Club (Every Monday until 6/14)
DESCRIPTION:Do you love to read and enjoy discussing books? Then join other family members in our Virtual Caregiver?s Book Club. We will be reading and discussing Elizabeth Is Missing by Emma Healey\, a novel about forgetful Maud\, her exasperated daughter and a missing friend\, Elizabeth. Maud will invite us into hermind and help us see our world with new eyes. She will teach us\, move us\, give us new perspectives and help shape us. We will relate her story to our own experiences and feelings in our journey of loving somebody living with Alzheimer?s Disease or another dementia.\n\n\n\nRegister by April 19th to receive a free copy of the book by mail.\n\n\n\nThis is a virtual program presented via webinar and phone. You will receive the access information in your email confirmation following your pre-registration. Please be sure to register using a valid email address. For more information\, please call 1-800-272-3900.
X-ALT-DESC;FMTTYPE=text/html:Do you love to read and enjoy discussing books? Then join other family members in our Virtual Caregiver?s Book Club. We will be reading and discussing Elizabeth Is Missing by Emma Healey\, a novel about forgetful Maud\, her exasperated daughter and a missing friend\, Elizabeth. Maud will invite us into hermind and help us see our world with new eyes. She will teach us\, move us\, give us new perspectives and help shape us. We will relate her story to our own experiences and feelings in our journey of loving somebody living with Alzheimer?s Disease or another dementia.<br />\n<br />\nRegister by April 19th to receive a free copy of the book by mail.<br />\n<br />\nThis is a virtual program presented via webinar and phone. You will receive the access information in your email confirmation following your pre-registration. Please be sure to register using a valid email address. For more information\, please call 1-800-272-3900.
LOCATION:online
UID:e.2300.9444
SEQUENCE:3
DTSTAMP:20260421T144140Z
URL:https://business.ulsterchamber.org/events/details/alzheimer-s-association-virtual-caregiver-book-club-every-monday-until-6-14-9444
END:VEVENT

END:VCALENDAR
