BEGIN:VCALENDAR
VERSION:2.0
PRODID:-//ChamberMaster//Event Calendar 2.0//EN
METHOD:PUBLISH
X-PUBLISHED-TTL:P3D
REFRESH-INTERVAL:P3D
CALSCALE:GREGORIAN
BEGIN:VEVENT
DTSTART:20210519T160000Z
DTEND:20210519T173000Z
X-MICROSOFT-CDO-ALLDAYEVENT:FALSE
SUMMARY:Alzheimer's Association: Orange County Community Forum
DESCRIPTION:Learn about Alzheimer's\, dementia and memory loss in this brief community-focused listening session. We'll review the basics of these conditions\, services of the Alzheimer's Association and how we can expand the reach of local programs and services. Bring a friend and share your thoughts about how the Alzheimer's Association can help more people in your community.
X-ALT-DESC;FMTTYPE=text/html:<p>Learn about Alzheimer&#39\;s\, dementia and memory loss in this brief community-focused listening session. We&#39\;ll review the basics of these conditions\, services of the Alzheimer&#39\;s Association and how we can expand the reach of local programs and services. Bring a friend and share your thoughts about how the Alzheimer&#39\;s Association can help more people in your community.</p>\n
LOCATION:Webinar
UID:e.2300.9469
SEQUENCE:3
DTSTAMP:20260421T143910Z
URL:https://business.ulsterchamber.org/events/details/alzheimer-s-association-orange-county-community-forum-9469
END:VEVENT

END:VCALENDAR
