BEGIN:VCALENDAR
VERSION:2.0
PRODID:-//ChamberMaster//Event Calendar 2.0//EN
METHOD:PUBLISH
X-PUBLISHED-TTL:P3D
REFRESH-INTERVAL:P3D
CALSCALE:GREGORIAN
BEGIN:VEVENT
DTSTART:20210524T180000Z
DTEND:20210524T190000Z
X-MICROSOFT-CDO-ALLDAYEVENT:FALSE
SUMMARY:Alzheimer's Association: Effective Communication Strategies
DESCRIPTION:A free virtual educational program by the Alzheimer's Association Hudson Valley Chapter about how communication takes place when someone has dementia. Learn to decode verbal and behavioral messages delivered by someone with dementia and identify strategies to help you connect and communicate at every stage of the disease. Presented in partnership with Dutchess County OFA. To register\, call 800.272.3900.
X-ALT-DESC;FMTTYPE=text/html:<p>A free virtual educational program by the Alzheimer&rsquo\;s Association Hudson Valley Chapter about how communication takes place when someone has dementia. Learn to decode verbal and behavioral messages delivered by someone with dementia and identify strategies to help you connect and communicate at every stage of the disease. Presented in partnership with Dutchess County OFA. To register\, call 800.272.3900.</p>\n
LOCATION:Webinar
UID:e.2300.9473
SEQUENCE:3
DTSTAMP:20260421T143908Z
URL:https://business.ulsterchamber.org/events/details/alzheimer-s-association-effective-communication-strategies-9473
END:VEVENT

END:VCALENDAR
