BEGIN:VCALENDAR
VERSION:2.0
PRODID:-//ChamberMaster//Event Calendar 2.0//EN
METHOD:PUBLISH
X-PUBLISHED-TTL:P3D
REFRESH-INTERVAL:P3D
CALSCALE:GREGORIAN
BEGIN:VEVENT
DTSTART:20210410T170000Z
DTEND:20210410T193000Z
X-MICROSOFT-CDO-ALLDAYEVENT:FALSE
SUMMARY:Alzheimer's Association: Alzwell Social Club- For Early or Middle Stage People with dementia and their family caregivers
DESCRIPTION:The Early/middle-Stage Social Engagement Program offers a fun and comfortable way for people living in the early stage of Alzheimer's or other dementia to get active and get connected with one another through a variety of social events and community-based activities determined by individual needs and interests of the participants and that promote social interaction and companionship.\n\n\n\nIn order to attend the Alzwell Program the person with dementia and caregiver must reside in either Westchester\, Rockland\, Dutchessor Putnam\, Orange\, Sullivan or Ulster County. AlzWell prescreening required. Call 800-272-3900 for a Care Consultation and prescreening appointment. If you have already been prescreened call Debbie Marks-Kahn at 914-629-4464 or emaildebbiemarkskahn@gmail.com to register.\n\n\n\nFor people with early-or middle-stage dementia and their family caregivers to\, socialize and enjoy a variety of creative activities in a warm and understanding environment.\n\n\n\nDates are as follows: Jan. 6\, 23 - Feb 13\, 27\, March 6\, 20\, April 10\, 24 & May 8\, 22\, June 12\, 26.
X-ALT-DESC;FMTTYPE=text/html:The Early/middle-Stage Social Engagement Program offers a fun and comfortable way for people living in the early stage of Alzheimer&#39\;s or other dementia to get active and get connected with one another through a variety of social events and community-based activities determined by individual needs and interests of the participants and that promote social interaction and companionship.<br />\n<br />\nIn order to attend the Alzwell Program the person with dementia and caregiver must reside in either Westchester\, Rockland\, Dutchessor Putnam\, Orange\, Sullivan or Ulster County. AlzWell prescreening required. Call 800-272-3900 for a Care Consultation and prescreening appointment. If you have already been prescreened call Debbie Marks-Kahn at 914-629-4464 or emaildebbiemarkskahn@gmail.com to register.<br />\n<br />\nFor people with early-or middle-stage dementia and their family caregivers to\, socialize and enjoy a variety of creative activities in a warm and understanding environment.<br />\n<br />\nDates are as follows: Jan. 6\, 23 - Feb 13\, 27\, March 6\, 20\, April 10\, 24 &amp\; May 8\, 22\, June 12\, 26.
LOCATION:VIRTUAL
UID:e.2300.9368
SEQUENCE:3
DTSTAMP:20260421T162657Z
URL:https://business.ulsterchamber.org/events/details/alzheimer-s-association-alzwell-social-club-for-early-or-middle-stage-people-with-dementia-and-their-family-caregivers-9368
END:VEVENT

END:VCALENDAR
