BEGIN:VCALENDAR
VERSION:2.0
PRODID:-//ChamberMaster//Event Calendar 2.0//EN
METHOD:PUBLISH
X-PUBLISHED-TTL:P3D
REFRESH-INTERVAL:P3D
CALSCALE:GREGORIAN
BEGIN:VEVENT
DTSTART:20210407T210000Z
DTEND:20210407T230000Z
X-MICROSOFT-CDO-ALLDAYEVENT:FALSE
SUMMARY:Alzheimer's Association: 2021 Caregiver Symposium\; A Glimpse into the Life of a Younger Caregiver
DESCRIPTION:2021 Younger Caregiver Symposium A Glimpse into the Life of a Younger Caregiver Join the Alzheimer's Association Hudson Valley Chapter for an evening focused on the Younger Caregiver experience.\n\n\n\nOur 2021 symposium will highlight real life stories\, situations and events that raise awareness on a caregiver's journey and highlight the importance behind community support and outreach.\n\n\n\nFeatured Speakers/Panelists Dr. Jessica Zwerling will speak about Healthy Aging and caregiver stress. Amy LeFleur wll speak on The Millennial Caregiver Experience Teresa Santos will speak on Fears Millennials Have About Alzheimer's The event will also feature a presentation on Healthy Living for your Brain and Body offering tips on how to create a plan for healthy aging.
X-ALT-DESC;FMTTYPE=text/html:2021 Younger Caregiver Symposium A Glimpse into the Life of a Younger Caregiver Join the Alzheimer&#39\;s Association Hudson Valley Chapter for an evening focused on the Younger Caregiver experience.<br />\n<br />\nOur 2021 symposium will highlight real life stories\, situations and events that raise awareness on a caregiver&#39\;s journey and highlight the importance behind community support and outreach.<br />\n<br />\nFeatured Speakers/Panelists Dr. Jessica Zwerling will speak about Healthy Aging and caregiver stress. Amy LeFleur wll speak on The Millennial Caregiver Experience Teresa Santos will speak on Fears Millennials Have About Alzheimer&rsquo\;s The event will also feature a presentation on Healthy Living for your Brain and Body offering tips on how to create a plan for healthy aging.
LOCATION:VIRTUAL
UID:e.2300.9367
SEQUENCE:3
DTSTAMP:20260421T162523Z
URL:https://business.ulsterchamber.org/events/details/alzheimer-s-association-2021-caregiver-symposium-a-glimpse-into-the-life-of-a-younger-caregiver-9367
END:VEVENT

END:VCALENDAR
