BEGIN:VCALENDAR
VERSION:2.0
PRODID:-//ChamberMaster//Event Calendar 2.0//EN
METHOD:PUBLISH
X-PUBLISHED-TTL:P3D
REFRESH-INTERVAL:P3D
CALSCALE:GREGORIAN
BEGIN:VEVENT
DTSTART:20260618T203000Z
DTEND:20260619T000000Z
X-MICROSOFT-CDO-ALLDAYEVENT:FALSE
SUMMARY:2026 Ulster County Black Business Community Celebration
DESCRIPTION:NOMINATIONS OPEN!\n\nUlster County has a wealth of outstanding Black business leaders and Black-owned businesses. The Ulster County Regional Chamber of Commerce\, in partnership with Black History Kingston and Ulster County Tourism\, wants to recognize the best of these at the 2026 Black Business Community Celebration.\n\n\n\nThese Awards recognize Ulster County's Black business leaders and Black-owned businesses that have demonstrated commitment\, community spirit\, philanthropy\, or have achieved extraordinary accomplishments and is an example to others.\n\n\n\nBlack Business Excellence Award\n\nThis Award recognizes a Black business leader or Black-owned business that has achieved extraordinary accomplishments and is an example to others.\n\n\n\nBlack Business Leadership Award\n\nThis Award is given to a Black individual or Black-owned business or organization that displays exceptional leadership qualities with a history of community service.\n\n\n\nMaude Bruce Community Award\n\nThis Lifetime Achievement Award is given to a Black individual who has dedicated their life to issues of racial and social justice and has improved the quality of life for the citizens of Ulster County.\n\n\n\nYoung Black Leader Award\n\nThis Award is given to a young Black adult who has displayed determination\, has an exceptional work ethic and an interest in pursuing a career in business or entrepreneurship.\n\n\n\nNomination Form must be complete and submitted no later than 5:00 pm on April 1\, 2026.\n\nNominate Here\n\n\n---------------------------------\n\n\n\n The Ulster Chamber\, in partnership with Black History Month Kingston and Ulster County Tourism\, will host the 2026 Ulster County Black Business Community Celebration on Thursday\, June 18\, 2026\, from 4:30   8:00 pm. Everyone is invited to join the celebration as we honor Black business and community leaders.\n\n\n\nThere is no charge to attend but registration is required.\n\n\n\nSponsorship Opportunities available for the Black Business Community Celebration.\n \n\n\nDownload Sponsorship Form Here\n\nView ONLINE Sponsorship Form Here
X-ALT-DESC;FMTTYPE=text/html:<div>\n<h4><strong>NOMINATIONS OPEN!</strong></h4>\n\n<p>Ulster County has a wealth of outstanding Black business leaders and Black-owned businesses. The Ulster County Regional Chamber of Commerce\, in partnership with Black History Kingston and Ulster County Tourism\, wants to recognize the best of these at the 2026 Black Business Community Celebration.<br />\n<br />\nThese Awards recognize Ulster County&#39\;s Black business leaders and Black-owned businesses that have demonstrated commitment\, community spirit\, philanthropy\, or have achieved extraordinary accomplishments and is an example to others.<br />\n<br />\n<u><strong>Black Business Excellence Award</strong></u><br />\nThis Award recognizes a Black business leader or Black-owned business that has achieved extraordinary accomplishments and is an example to others.<br />\n<br />\n<u><strong>Black Business Leadership Award</strong></u><br />\nThis Award is given to a Black individual or Black-owned business or organization that displays exceptional leadership qualities with a history of community service.<br />\n<br />\n<u><strong>Maude Bruce Community Award</strong></u><br />\nThis Lifetime Achievement Award is given to a Black individual who has dedicated their life to issues of racial and social justice and has improved the quality of life for the citizens of Ulster County.<br />\n<br />\n<u><strong>Young Black Leader Award</strong></u><br />\nThis Award is given to a young Black adult who has displayed determination\, has an exceptional work ethic and an interest in pursuing a career in business or entrepreneurship.<br />\n<br />\nNomination Form must be complete and submitted no later than 5:00 pm on April 1\, 2026.</p>\n\n<h5><u><strong><a href="https://business.ulsterchamber.org/form/view/38859" target="_blank">Nominate Here</a></strong></u></h5>\n<br />\n---------------------------------<br />\n<br />\n&#8203\;The Ulster Chamber\, in partnership with Black History Month Kingston and&nbsp\;Ulster County Tourism\, will host&nbsp\;the&nbsp\;<strong>2026 Ulster County Black Business Community Celebration</strong>&nbsp\;on&nbsp\;<strong>Thursday\, June 18\, 2026</strong>\, from&nbsp\;<strong>4:30 &ndash\; 8:00 pm</strong>. Everyone is invited to join&nbsp\;the celebration as we honor Black business and community leaders.<br />\n<br />\nThere is no charge to attend but registration is required.<br />\n<br />\nSponsorship Opportunities available for the Black Business Community Celebration.\n<p>&nbsp\;</p>\n</div>\n\n<h5><u><strong><a href="https://www.ulsterchamber.org/assets/pdf/BBCC+Sponsorship+Opportunities+2026" target="_blank">Download Sponsorship Form Here</a></strong></u></h5>\n\n<h5><a href="https://business.ulsterchamber.org/form/view/38870" target="_blank"><u><strong>View ONLINE Sponsorship Form Here</strong></u></a></h5>\n
LOCATION:Ulster Savings Bank Corporate Headquarters
UID:e.2300.11204
SEQUENCE:3
DTSTAMP:20260423T042441Z
URL:https://business.ulsterchamber.org/events/details/2026-ulster-county-black-business-community-celebration-11204
END:VEVENT

END:VCALENDAR
