BEGIN:VCALENDAR
VERSION:2.0
PRODID:-//ChamberMaster//Event Calendar 2.0//EN
METHOD:PUBLISH
X-PUBLISHED-TTL:P3D
REFRESH-INTERVAL:P3D
CALSCALE:GREGORIAN
BEGIN:VEVENT
DTSTART:20220220T190000Z
DTEND:20220220T220000Z
X-MICROSOFT-CDO-ALLDAYEVENT:FALSE
SUMMARY:1st Annual Winterfest at Ole Savannah
DESCRIPTION:Our weekly Sunday Buffet Brunch will be in full swing from 10   2pm\, then our WinterFest festivities kick off at 2pm!\n\n\n\n2pm: Skating for a Cause\n\nSupport your favorite non-profit as they skate on the ice!\n\n\n\n3pm: The Arc Mid-Hudson will be holding a Chili Cookoff!\n\n\n\nTickets will be available for purchase\, all proceeds go to The Arc Mid-Hudson\n\nBuy Tickets Here\n\n\n\nPlus:\n\nTouch-a-Truck\n\nS'mores Station\n\nHot Chocolate Station\n\nAND:\n\nSnowman making competition (WEATHER PERMITTING)
X-ALT-DESC;FMTTYPE=text/html:Our weekly Sunday Buffet Brunch will be in full swing from 10 &ndash\; 2pm\, then our WinterFest festivities kick off at 2pm!<br />\n<br />\n2pm: Skating for a Cause<br />\nSupport your favorite non-profit as they skate on the ice!<br />\n<br />\n3pm: The Arc Mid-Hudson will be holding a Chili Cookoff!<br />\n<br />\nTickets will be available for purchase\, all proceeds go to The Arc Mid-Hudson<br />\n<strong><a href="https://arcmhfoundation.org/event/2022-chili-cookoff/" target="_blank">Buy Tickets Here</a></strong><br />\n<br />\nPlus:<br />\nTouch-a-Truck<br />\nS&rsquo\;mores Station<br />\nHot Chocolate Station<br />\nAND:<br />\nSnowman making competition (WEATHER PERMITTING)
LOCATION:Ole Savannah Southern Table & Bar
UID:e.2300.9726
SEQUENCE:3
DTSTAMP:20260421T002508Z
URL:https://business.ulsterchamber.org/events/details/1st-annual-winterfest-at-ole-savannah-9726
END:VEVENT

END:VCALENDAR
