BEGIN:VCALENDAR
VERSION:2.0
PRODID:-//ChamberMaster//Event Calendar 2.0//EN
METHOD:PUBLISH
X-PUBLISHED-TTL:P3D
REFRESH-INTERVAL:P3D
CALSCALE:GREGORIAN
BEGIN:VEVENT
DTSTART:20220219T170000Z
DTEND:20220220T030000Z
X-MICROSOFT-CDO-ALLDAYEVENT:FALSE
SUMMARY:1st Annual Winterfest at Ole Savannah
DESCRIPTION:Festivities Kick-off at Noon: Ice Bar Opens!\n\n\n\nAll our special guest bartenders will be donating their tips to a nonprofit organization of their choosing:\n\n12:00pm: Anthony Davis (Boys and Girls Club)\n\n1:30pm: Tiffany Janasiewicz (Paws Unlimited Foundation) and Chris Seche (Boys and Girls Club)\n\n3:00pm: Joe O'Connor and George Sifre (Make a wish of Hudson Valley)\n\n4:30pm: Ricky Negron (Mentor Me)\n\n6:00pm: Jimmy Berardi  (Ulster SPCA)\n\n\n\n12 noon - 5 pm Craft Fair with local vendors\n\n\n\n1:00pm:  Kingston Fire Department Touch-a-Truck\n\nUlster SPCA will be holding an Adoption Day\n\nKids Winter Carnival Games\n\nSnowman Making Competition\n\n	Enter and compete for prizes\n	We will be making our OWN SNOW!\n\n\n\n1:30 pm: Kids Hockey Game\n\n\n\n2:00 pm Skaters to support Mentor Me\n\n	Ken Beesmer\n	Michelle Hinchey\n	Micheal Defrance\, KPD\n\n\n\nIce Castle\n\nPhotobooth\n\n\n\nPlus:\n\nS'mores Station\n\nHot Chocolate Station by Rondout Ice Rink\n\nFire Pit
X-ALT-DESC;FMTTYPE=text/html:Festivities Kick-off at Noon: Ice Bar Opens!<br />\n<br />\nAll our special guest bartenders will be donating their tips to a nonprofit organization of their choosing:<br />\n12:00pm: Anthony Davis (Boys and Girls Club)<br />\n1:30pm: Tiffany Janasiewicz (Paws Unlimited Foundation) and Chris Seche (Boys and Girls Club)<br />\n3:00pm: Joe O&rsquo\;Connor and George Sifre (Make a wish of Hudson Valley)<br />\n4:30pm: Ricky Negron (Mentor Me)<br />\n6:00pm: Jimmy Berardi&nbsp\; (Ulster SPCA)<br />\n<br />\n12 noon - 5 pm Craft Fair with local vendors<br />\n<br />\n1:00pm:&nbsp\; Kingston Fire Department Touch-a-Truck<br />\nUlster SPCA will be holding an Adoption Day<br />\nKids Winter Carnival Games<br />\nSnowman Making Competition\n<ul>\n	<li>Enter and compete for prizes</li>\n	<li>We will be making our OWN SNOW!</li>\n</ul>\n<br />\n1:30 pm: Kids Hockey Game<br />\n<br />\n2:00 pm Skaters to support Mentor Me\n<ul>\n	<li>Ken Beesmer</li>\n	<li>Michelle Hinchey</li>\n	<li>Micheal Defrance\, KPD</li>\n</ul>\n<br />\nIce Castle<br />\nPhotobooth<br />\n<br />\nPlus:<br />\nS&rsquo\;mores Station<br />\nHot Chocolate Station by Rondout Ice Rink<br />\nFire Pit
LOCATION:Ole Savannah Southern Table & Bar
UID:e.2300.9725
SEQUENCE:3
DTSTAMP:20260421T002308Z
URL:https://business.ulsterchamber.org/events/details/1st-annual-winterfest-at-ole-savannah-9725
END:VEVENT

END:VCALENDAR
